BEGIN:VCALENDAR
VERSION:2.0
PRODID:-//spbstu.ru//ical//RU
NAME:Расписание группы 3753802/50002
X-WR-CALNAME:Расписание группы 3753802/50002
TIMEZONE-ID:Europe/Moscow
X-WR-TIMEZONE:Europe/Moscow
BEGIN:VEVENT
UID:z3r9@192.168.245.71:3006
SEQUENCE:0
DTSTAMP:20260425T192604Z
DTSTART:20251020T050000Z
DTEND:20251020T064000Z
SUMMARY:Элективная физическая культура и спорт
LOCATION:СК Спортивный зал
END:VEVENT
BEGIN:VEVENT
UID:hqj8@192.168.245.71:3006
SEQUENCE:0
DTSTAMP:20260425T192604Z
DTSTART:20251020T070000Z
DTEND:20251020T084000Z
SUMMARY:Иностранный язык: Базовый курс
LOCATION:16 к. 411
END:VEVENT
BEGIN:VEVENT
UID:7qz6@192.168.245.71:3006
SEQUENCE:0
DTSTAMP:20260425T192604Z
DTSTART:20251020T110000Z
DTEND:20251020T124000Z
SUMMARY:Введение в экономическую теорию
LOCATION:DL Дистанционно
END:VEVENT
BEGIN:VEVENT
UID:i730@192.168.245.71:3006
SEQUENCE:0
DTSTAMP:20260425T192604Z
DTSTART:20251020T150000Z
DTEND:20251020T164000Z
SUMMARY:Иностранный язык: Русский язык как иностранный
LOCATION:16 к. 403
END:VEVENT
BEGIN:VEVENT
UID:dn4f@192.168.245.71:3006
SEQUENCE:0
DTSTAMP:20260425T192604Z
DTSTART:20251022T090000Z
DTEND:20251022T104000Z
SUMMARY:Введение в экономическую теорию
LOCATION:50 уч.к 1226
END:VEVENT
BEGIN:VEVENT
UID:qbsd@192.168.245.71:3006
SEQUENCE:0
DTSTAMP:20260425T192604Z
DTSTART:20251022T110000Z
DTEND:20251022T124000Z
SUMMARY:Основы российской государственности
LOCATION:50 уч.к 1319
END:VEVENT
BEGIN:VEVENT
UID:ao6h@192.168.245.71:3006
SEQUENCE:0
DTSTAMP:20260425T192604Z
DTSTART:20251022T130000Z
DTEND:20251022T144000Z
SUMMARY:Творческие семестры
LOCATION:ГЗ Белый зал
END:VEVENT
BEGIN:VEVENT
UID:wxp3@192.168.245.71:3006
SEQUENCE:0
DTSTAMP:20260425T192604Z
DTSTART:20251023T070000Z
DTEND:20251023T084000Z
SUMMARY:Элективная физическая культура и спорт
LOCATION:СК Спортивный зал
END:VEVENT
BEGIN:VEVENT
UID:swxv@192.168.245.71:3006
SEQUENCE:0
DTSTAMP:20260425T192604Z
DTSTART:20251023T090000Z
DTEND:20251023T104000Z
SUMMARY:Основы цифровых технологий
LOCATION:50 уч.к 1336
END:VEVENT
BEGIN:VEVENT
UID:zgls@192.168.245.71:3006
SEQUENCE:0
DTSTAMP:20260425T192604Z
DTSTART:20251024T050000Z
DTEND:20251024T064000Z
SUMMARY:Иностранный язык: Русский язык как иностранный
LOCATION:16 к. 410
END:VEVENT
BEGIN:VEVENT
UID:p49r@192.168.245.71:3006
SEQUENCE:0
DTSTAMP:20260425T192604Z
DTSTART:20251024T090000Z
DTEND:20251024T104000Z
SUMMARY:Высшая математика
LOCATION:50 уч.к 1214
END:VEVENT
BEGIN:VEVENT
UID:1wmn@192.168.245.71:3006
SEQUENCE:0
DTSTAMP:20260425T192604Z
DTSTART:20251024T110000Z
DTEND:20251024T124000Z
SUMMARY:Микроэкономика
LOCATION:50 уч.к 1341
END:VEVENT
BEGIN:VEVENT
UID:pogn@192.168.245.71:3006
SEQUENCE:0
DTSTAMP:20260425T192604Z
DTSTART:20251024T130000Z
DTEND:20251024T144000Z
SUMMARY:Информационные системы и технологии
LOCATION:50 уч.к 1341
END:VEVENT
BEGIN:VEVENT
UID:gzzq@192.168.245.71:3006
SEQUENCE:0
DTSTAMP:20260425T192604Z
DTSTART:20251025T070000Z
DTEND:20251025T084000Z
SUMMARY:Информационные системы и технологии
LOCATION:50 уч.к 1101
END:VEVENT
BEGIN:VEVENT
UID:yl0h@192.168.245.71:3006
SEQUENCE:0
DTSTAMP:20260425T192604Z
DTSTART:20251025T090000Z
DTEND:20251025T104000Z
SUMMARY:Высшая математика
LOCATION:50 уч.к 1223
END:VEVENT
BEGIN:VEVENT
UID:1m8m@192.168.245.71:3006
SEQUENCE:0
DTSTAMP:20260425T192604Z
DTSTART:20251025T110000Z
DTEND:20251025T124000Z
SUMMARY:Микроэкономика
LOCATION:50 уч.к 1250
END:VEVENT
END:VCALENDAR