BEGIN:VCALENDAR
VERSION:2.0
PRODID:-//spbstu.ru//ical//RU
NAME:Расписание группы 3753802/50002
X-WR-CALNAME:Расписание группы 3753802/50002
TIMEZONE-ID:Europe/Moscow
X-WR-TIMEZONE:Europe/Moscow
BEGIN:VEVENT
UID:srt8@192.168.245.71:3006
SEQUENCE:0
DTSTAMP:20260424T175518Z
DTSTART:20251201T050000Z
DTEND:20251201T064000Z
SUMMARY:Элективная физическая культура и спорт
LOCATION:СК Спортивный зал
END:VEVENT
BEGIN:VEVENT
UID:agvq@192.168.245.71:3006
SEQUENCE:0
DTSTAMP:20260424T175518Z
DTSTART:20251201T070000Z
DTEND:20251201T084000Z
SUMMARY:Иностранный язык: Базовый курс
LOCATION:16 к. 411
END:VEVENT
BEGIN:VEVENT
UID:1pze@192.168.245.71:3006
SEQUENCE:0
DTSTAMP:20260424T175518Z
DTSTART:20251201T110000Z
DTEND:20251201T124000Z
SUMMARY:Введение в экономическую теорию
LOCATION:DL Дистанционно
END:VEVENT
BEGIN:VEVENT
UID:wxwj@192.168.245.71:3006
SEQUENCE:0
DTSTAMP:20260424T175518Z
DTSTART:20251201T150000Z
DTEND:20251201T164000Z
SUMMARY:Иностранный язык: Русский язык как иностранный
LOCATION:16 к. 403
END:VEVENT
BEGIN:VEVENT
UID:isnz@192.168.245.71:3006
SEQUENCE:0
DTSTAMP:20260424T175518Z
DTSTART:20251203T090000Z
DTEND:20251203T104000Z
SUMMARY:Введение в экономическую теорию
LOCATION:50 уч.к 1226
END:VEVENT
BEGIN:VEVENT
UID:rr31@192.168.245.71:3006
SEQUENCE:0
DTSTAMP:20260424T175518Z
DTSTART:20251203T110000Z
DTEND:20251203T124000Z
SUMMARY:Основы российской государственности
LOCATION:50 уч.к 1319
END:VEVENT
BEGIN:VEVENT
UID:lsn9@192.168.245.71:3006
SEQUENCE:0
DTSTAMP:20260424T175518Z
DTSTART:20251203T130000Z
DTEND:20251203T144000Z
SUMMARY:Творческие семестры
LOCATION:ГЗ Белый зал
END:VEVENT
BEGIN:VEVENT
UID:3x6w@192.168.245.71:3006
SEQUENCE:0
DTSTAMP:20260424T175518Z
DTSTART:20251204T070000Z
DTEND:20251204T084000Z
SUMMARY:Элективная физическая культура и спорт
LOCATION:СК Спортивный зал
END:VEVENT
BEGIN:VEVENT
UID:ox84@192.168.245.71:3006
SEQUENCE:0
DTSTAMP:20260424T175518Z
DTSTART:20251204T090000Z
DTEND:20251204T104000Z
SUMMARY:Основы цифровых технологий
LOCATION:50 уч.к 1336
END:VEVENT
BEGIN:VEVENT
UID:9o2c@192.168.245.71:3006
SEQUENCE:0
DTSTAMP:20260424T175518Z
DTSTART:20251205T050000Z
DTEND:20251205T064000Z
SUMMARY:Иностранный язык: Русский язык как иностранный
LOCATION:16 к. 410
END:VEVENT
BEGIN:VEVENT
UID:hqpg@192.168.245.71:3006
SEQUENCE:0
DTSTAMP:20260424T175518Z
DTSTART:20251205T110000Z
DTEND:20251205T124000Z
SUMMARY:Микроэкономика
LOCATION:50 уч.к 1341
END:VEVENT
BEGIN:VEVENT
UID:izuv@192.168.245.71:3006
SEQUENCE:0
DTSTAMP:20260424T175518Z
DTSTART:20251205T130000Z
DTEND:20251205T144000Z
SUMMARY:Информационные системы и технологии
LOCATION:50 уч.к 1341
END:VEVENT
BEGIN:VEVENT
UID:5802@192.168.245.71:3006
SEQUENCE:0
DTSTAMP:20260424T175518Z
DTSTART:20251206T070000Z
DTEND:20251206T084000Z
SUMMARY:Информационные системы и технологии
LOCATION:50 уч.к 1101
END:VEVENT
BEGIN:VEVENT
UID:na3i@192.168.245.71:3006
SEQUENCE:0
DTSTAMP:20260424T175518Z
DTSTART:20251206T090000Z
DTEND:20251206T104000Z
SUMMARY:Высшая математика
LOCATION:50 уч.к 1223
END:VEVENT
BEGIN:VEVENT
UID:lfjb@192.168.245.71:3006
SEQUENCE:0
DTSTAMP:20260424T175518Z
DTSTART:20251206T110000Z
DTEND:20251206T124000Z
SUMMARY:Микроэкономика
LOCATION:50 уч.к 1250
END:VEVENT
END:VCALENDAR