BEGIN:VCALENDAR
VERSION:2.0
PRODID:-//spbstu.ru//ical//RU
NAME:Расписание группы 3753802/50002
X-WR-CALNAME:Расписание группы 3753802/50002
TIMEZONE-ID:Europe/Moscow
X-WR-TIMEZONE:Europe/Moscow
BEGIN:VEVENT
UID:g43d@192.168.245.71:3006
SEQUENCE:0
DTSTAMP:20260423T090155Z
DTSTART:20260202T070000Z
DTEND:20260202T084000Z
SUMMARY:Высшая математика
LOCATION:50 уч.к 1234
END:VEVENT
BEGIN:VEVENT
UID:5gap@192.168.245.71:3006
SEQUENCE:0
DTSTAMP:20260423T090155Z
DTSTART:20260202T090000Z
DTEND:20260202T104000Z
SUMMARY:Цифровые средства обработки данных
LOCATION:50 уч.к 1109
END:VEVENT
BEGIN:VEVENT
UID:qak7@192.168.245.71:3006
SEQUENCE:0
DTSTAMP:20260423T090155Z
DTSTART:20260202T110000Z
DTEND:20260202T124000Z
SUMMARY:Основы государственной регламентации деятельности организации
LOCATION:50 уч.к 1113
END:VEVENT
BEGIN:VEVENT
UID:y1xo@192.168.245.71:3006
SEQUENCE:0
DTSTAMP:20260423T090155Z
DTSTART:20260202T130000Z
DTEND:20260202T144000Z
SUMMARY:Учебная практика/Ознакомительная практика
LOCATION:50 уч.к 1323
END:VEVENT
BEGIN:VEVENT
UID:1v9c@192.168.245.71:3006
SEQUENCE:0
DTSTAMP:20260423T090155Z
DTSTART:20260204T090000Z
DTEND:20260204T104000Z
SUMMARY:Цифровые средства обработки данных
LOCATION:ГЗ 257
END:VEVENT
BEGIN:VEVENT
UID:jklt@192.168.245.71:3006
SEQUENCE:0
DTSTAMP:20260423T090155Z
DTSTART:20260204T110000Z
DTEND:20260204T124000Z
SUMMARY:Макроэкономика
LOCATION:50 уч.к 1214
END:VEVENT
BEGIN:VEVENT
UID:iast@192.168.245.71:3006
SEQUENCE:0
DTSTAMP:20260423T090155Z
DTSTART:20260204T130000Z
DTEND:20260204T144000Z
SUMMARY:История России
LOCATION:50 уч.к 1214
END:VEVENT
BEGIN:VEVENT
UID:w0og@192.168.245.71:3006
SEQUENCE:0
DTSTAMP:20260423T090155Z
DTSTART:20260204T150000Z
DTEND:20260204T164000Z
SUMMARY:Концепции современного естествознания
LOCATION:ГЗ 324
END:VEVENT
BEGIN:VEVENT
UID:85gz@192.168.245.71:3006
SEQUENCE:0
DTSTAMP:20260423T090155Z
DTSTART:20260205T050000Z
DTEND:20260205T064000Z
SUMMARY:Иностранный язык: Базовый курс
LOCATION:16 к. 411
END:VEVENT
BEGIN:VEVENT
UID:zs6i@192.168.245.71:3006
SEQUENCE:0
DTSTAMP:20260423T090155Z
DTSTART:20260205T090000Z
DTEND:20260205T104000Z
SUMMARY:Физическая культура
LOCATION:15 к. 734
END:VEVENT
BEGIN:VEVENT
UID:ncyc@192.168.245.71:3006
SEQUENCE:0
DTSTAMP:20260423T090155Z
DTSTART:20260206T070000Z
DTEND:20260206T084000Z
SUMMARY:История России
LOCATION:50 уч.к 1250
END:VEVENT
BEGIN:VEVENT
UID:9evc@192.168.245.71:3006
SEQUENCE:0
DTSTAMP:20260423T090155Z
DTSTART:20260206T090000Z
DTEND:20260206T104000Z
SUMMARY:Высшая математика
LOCATION:50 уч.к 1341
END:VEVENT
BEGIN:VEVENT
UID:tsmv@192.168.245.71:3006
SEQUENCE:0
DTSTAMP:20260423T090155Z
DTSTART:20260206T110000Z
DTEND:20260206T124000Z
SUMMARY:Экономика предприятия
LOCATION:50 уч.к 1414
END:VEVENT
BEGIN:VEVENT
UID:h8c5@192.168.245.71:3006
SEQUENCE:0
DTSTAMP:20260423T090155Z
DTSTART:20260206T130000Z
DTEND:20260206T144000Z
SUMMARY:Макроэкономика
LOCATION:50 уч.к 1331
END:VEVENT
END:VCALENDAR