BEGIN:VCALENDAR
VERSION:2.0
PRODID:-//spbstu.ru//ical//RU
NAME:Расписание группы 3730105/40001
X-WR-CALNAME:Расписание группы 3730105/40001
TIMEZONE-ID:Europe/Moscow
X-WR-TIMEZONE:Europe/Moscow
BEGIN:VEVENT
UID:dxr8@192.168.245.71:3006
SEQUENCE:0
DTSTAMP:20260423T143403Z
DTSTART:20251215T090000Z
DTEND:20251215T104000Z
SUMMARY:Иностранный язык: деловая коммуникация
LOCATION:16 к. 401
END:VEVENT
BEGIN:VEVENT
UID:jwc0@192.168.245.71:3006
SEQUENCE:0
DTSTAMP:20260423T143403Z
DTSTART:20251217T070000Z
DTEND:20251217T094000Z
SUMMARY:Цифровая аналитика
LOCATION:50 уч.к 1104
END:VEVENT
BEGIN:VEVENT
UID:xzvx@192.168.245.71:3006
SEQUENCE:0
DTSTAMP:20260423T143403Z
DTSTART:20251218T090000Z
DTEND:20251218T104000Z
SUMMARY:Элективная  физическая культура и спорт
LOCATION:СК Спортивный зал
END:VEVENT
BEGIN:VEVENT
UID:a7ft@192.168.245.71:3006
SEQUENCE:0
DTSTAMP:20260423T143403Z
DTSTART:20251219T070000Z
DTEND:20251219T104000Z
SUMMARY:Теория вероятностей
LOCATION:50 уч.к 1327
END:VEVENT
END:VCALENDAR