BEGIN:VCALENDAR
VERSION:2.0
PRODID:-//spbstu.ru//ical//RU
NAME:Расписание группы 3730105/40001
X-WR-CALNAME:Расписание группы 3730105/40001
TIMEZONE-ID:Europe/Moscow
X-WR-TIMEZONE:Europe/Moscow
BEGIN:VEVENT
UID:3h0u@192.168.245.71:3006
SEQUENCE:0
DTSTAMP:20260421T081449Z
DTSTART:20260406T070000Z
DTEND:20260406T084000Z
SUMMARY:Иностранный язык. Профессионально-ориентированный курс
LOCATION:16 к. 406
END:VEVENT
BEGIN:VEVENT
UID:tsri@192.168.245.71:3006
SEQUENCE:0
DTSTAMP:20260421T081449Z
DTSTART:20260406T090000Z
DTEND:20260406T104000Z
SUMMARY:Иностранный язык. Профессионально-ориентированный курс
LOCATION:16 к. 406
END:VEVENT
BEGIN:VEVENT
UID:du7u@192.168.245.71:3006
SEQUENCE:0
DTSTAMP:20260421T081449Z
DTSTART:20260406T110000Z
DTEND:20260406T124000Z
SUMMARY:Элективная  физическая культура и спорт
LOCATION:СК Спортивный зал
END:VEVENT
BEGIN:VEVENT
UID:n1lb@192.168.245.71:3006
SEQUENCE:0
DTSTAMP:20260421T081449Z
DTSTART:20260406T130000Z
DTEND:20260406T144000Z
SUMMARY:Безопасность жизнедеятельности
LOCATION:ГК 439
END:VEVENT
BEGIN:VEVENT
UID:rn2m@192.168.245.71:3006
SEQUENCE:0
DTSTAMP:20260421T081449Z
DTSTART:20260406T150000Z
DTEND:20260406T164000Z
SUMMARY:Статистика
LOCATION:ГЗ 215
END:VEVENT
BEGIN:VEVENT
UID:1c2g@192.168.245.71:3006
SEQUENCE:0
DTSTAMP:20260421T081449Z
DTSTART:20260407T090000Z
DTEND:20260407T104000Z
SUMMARY:Управление данными
LOCATION:50 уч.к 1205
END:VEVENT
BEGIN:VEVENT
UID:r7uj@192.168.245.71:3006
SEQUENCE:0
DTSTAMP:20260421T081449Z
DTSTART:20260407T110000Z
DTEND:20260407T124000Z
SUMMARY:Управление данными
LOCATION:50 уч.к 1205
END:VEVENT
BEGIN:VEVENT
UID:6a95@192.168.245.71:3006
SEQUENCE:0
DTSTAMP:20260421T081449Z
DTSTART:20260407T130000Z
DTEND:20260407T144000Z
SUMMARY:Управление данными
LOCATION:50 уч.к 1205
END:VEVENT
BEGIN:VEVENT
UID:8fx3@192.168.245.71:3006
SEQUENCE:0
DTSTAMP:20260421T081449Z
DTSTART:20260407T150000Z
DTEND:20260407T180000Z
SUMMARY:Русский язык как иностранный: Профессионально-ориентированный курс
LOCATION:50 уч.к 1428
END:VEVENT
BEGIN:VEVENT
UID:0hon@192.168.245.71:3006
SEQUENCE:0
DTSTAMP:20260421T081449Z
DTSTART:20260408T110000Z
DTEND:20260408T124000Z
SUMMARY:Анализ финансово-хозяйственной деятельности предприятий
LOCATION:50 уч.к 1418
END:VEVENT
BEGIN:VEVENT
UID:c0ri@192.168.245.71:3006
SEQUENCE:0
DTSTAMP:20260421T081449Z
DTSTART:20260408T130000Z
DTEND:20260408T144000Z
SUMMARY:Анализ финансово-хозяйственной деятельности предприятий
LOCATION:50 уч.к 1418
END:VEVENT
BEGIN:VEVENT
UID:i803@192.168.245.71:3006
SEQUENCE:0
DTSTAMP:20260421T081449Z
DTSTART:20260409T070000Z
DTEND:20260409T084000Z
SUMMARY:Математические методы в экономике и управлении
LOCATION:50 уч.к 1103
END:VEVENT
BEGIN:VEVENT
UID:8kd7@192.168.245.71:3006
SEQUENCE:0
DTSTAMP:20260421T081449Z
DTSTART:20260409T090000Z
DTEND:20260409T104000Z
SUMMARY:Элективная  физическая культура и спорт
LOCATION:СК Спортивный зал
END:VEVENT
BEGIN:VEVENT
UID:uajl@192.168.245.71:3006
SEQUENCE:0
DTSTAMP:20260421T081449Z
DTSTART:20260410T050000Z
DTEND:20260410T064000Z
SUMMARY:Математические методы в экономике и управлении
LOCATION:ГЗ 283
END:VEVENT
BEGIN:VEVENT
UID:343v@192.168.245.71:3006
SEQUENCE:0
DTSTAMP:20260421T081449Z
DTSTART:20260410T070000Z
DTEND:20260410T084000Z
SUMMARY:Статистика
LOCATION:50 уч.к 1336
END:VEVENT
BEGIN:VEVENT
UID:vxma@192.168.245.71:3006
SEQUENCE:0
DTSTAMP:20260421T081449Z
DTSTART:20260410T090000Z
DTEND:20260410T104000Z
SUMMARY:Экономическая география
LOCATION:50 уч.к 1323
END:VEVENT
BEGIN:VEVENT
UID:w2wy@192.168.245.71:3006
SEQUENCE:0
DTSTAMP:20260421T081449Z
DTSTART:20260410T110000Z
DTEND:20260410T124000Z
SUMMARY:Экономическая география
LOCATION:50 уч.к 1103
END:VEVENT
END:VCALENDAR