BEGIN:VCALENDAR
VERSION:2.0
PRODID:-//spbstu.ru//ical//RU
NAME:Расписание группы 3730105/40001
X-WR-CALNAME:Расписание группы 3730105/40001
TIMEZONE-ID:Europe/Moscow
X-WR-TIMEZONE:Europe/Moscow
BEGIN:VEVENT
UID:186m@192.168.245.71:3006
SEQUENCE:0
DTSTAMP:20260421T155553Z
DTSTART:20260601T070000Z
DTEND:20260601T104000Z
SUMMARY:Иностранный язык. Профессионально-ориентированный курс
LOCATION:16 к. 403
END:VEVENT
BEGIN:VEVENT
UID:54cu@192.168.245.71:3006
SEQUENCE:0
DTSTAMP:20260421T155553Z
DTSTART:20260602T070000Z
DTEND:20260602T094000Z
SUMMARY:Управление данными
LOCATION:50 уч.к 1101
END:VEVENT
BEGIN:VEVENT
UID:7eah@192.168.245.71:3006
SEQUENCE:0
DTSTAMP:20260421T155553Z
DTSTART:20260602T100000Z
DTEND:20260602T110000Z
SUMMARY:Управление данными
LOCATION:50 уч.к 1101
END:VEVENT
END:VCALENDAR