BEGIN:VCALENDAR
VERSION:2.0
PRODID:-//spbstu.ru//ical//RU
NAME:Расписание группы 3730105/40001
X-WR-CALNAME:Расписание группы 3730105/40001
TIMEZONE-ID:Europe/Moscow
X-WR-TIMEZONE:Europe/Moscow
BEGIN:VEVENT
UID:9wzg@192.168.245.71:3006
SEQUENCE:0
DTSTAMP:20260421T230233Z
DTSTART:20260622T060000Z
DTEND:20260622T065000Z
SUMMARY:Анализ финансово-хозяйственной деятельности предприятий
LOCATION:50 уч.к 1217
END:VEVENT
BEGIN:VEVENT
UID:26gs@192.168.245.71:3006
SEQUENCE:0
DTSTAMP:20260421T230233Z
DTSTART:20260622T070000Z
DTEND:20260622T104000Z
SUMMARY:Анализ финансово-хозяйственной деятельности предприятий
LOCATION:50 уч.к 1217
END:VEVENT
END:VCALENDAR