BEGIN:VCALENDAR
VERSION:2.0
PRODID:-//spbstu.ru//ical//RU
NAME:Расписание группы 3733801/40001
X-WR-CALNAME:Расписание группы 3733801/40001
TIMEZONE-ID:Europe/Moscow
X-WR-TIMEZONE:Europe/Moscow
BEGIN:VEVENT
UID:o63n@192.168.245.71:3006
SEQUENCE:0
DTSTAMP:20260426T042531Z
DTSTART:20251020T070000Z
DTEND:20251020T084000Z
SUMMARY:Управление качеством
LOCATION:ГЗ 235
END:VEVENT
BEGIN:VEVENT
UID:z92c@192.168.245.71:3006
SEQUENCE:0
DTSTAMP:20260426T042531Z
DTSTART:20251020T090000Z
DTEND:20251020T104000Z
SUMMARY:Иностранный язык: деловая коммуникация
LOCATION:16 к. 411
END:VEVENT
BEGIN:VEVENT
UID:5erh@192.168.245.71:3006
SEQUENCE:0
DTSTAMP:20260426T042531Z
DTSTART:20251020T110000Z
DTEND:20251020T124000Z
SUMMARY:Элективная физическая культура и спорт
LOCATION:СК Спортивный зал
END:VEVENT
BEGIN:VEVENT
UID:4own@192.168.245.71:3006
SEQUENCE:0
DTSTAMP:20260426T042531Z
DTSTART:20251020T130000Z
DTEND:20251020T144000Z
SUMMARY:Менеджмент
LOCATION:ГЗ 235
END:VEVENT
BEGIN:VEVENT
UID:h5ga@192.168.245.71:3006
SEQUENCE:0
DTSTAMP:20260426T042531Z
DTSTART:20251021T070000Z
DTEND:20251021T084000Z
SUMMARY:Финансы и кредит
LOCATION:50 уч.к 1326
END:VEVENT
BEGIN:VEVENT
UID:r4ij@192.168.245.71:3006
SEQUENCE:0
DTSTAMP:20260426T042531Z
DTSTART:20251021T090000Z
DTEND:20251021T104000Z
SUMMARY:Бухгалтерский учет
LOCATION:50 уч.к 1239
END:VEVENT
BEGIN:VEVENT
UID:gd9a@192.168.245.71:3006
SEQUENCE:0
DTSTAMP:20260426T042531Z
DTSTART:20251021T150000Z
DTEND:20251021T171500Z
SUMMARY:Русский язык как иностранный. Язык специальности
LOCATION:15 к. 430
END:VEVENT
BEGIN:VEVENT
UID:boge@192.168.245.71:3006
SEQUENCE:0
DTSTAMP:20260426T042531Z
DTSTART:20251022T090000Z
DTEND:20251022T104000Z
SUMMARY:Теория вероятностей
LOCATION:50 уч.к 1239
END:VEVENT
BEGIN:VEVENT
UID:783z@192.168.245.71:3006
SEQUENCE:0
DTSTAMP:20260426T042531Z
DTSTART:20251022T110000Z
DTEND:20251022T124000Z
SUMMARY:Управление качеством
LOCATION:50 уч.к 1106
END:VEVENT
BEGIN:VEVENT
UID:gkxm@192.168.245.71:3006
SEQUENCE:0
DTSTAMP:20260426T042531Z
DTSTART:20251022T150000Z
DTEND:20251022T164000Z
SUMMARY:Русский язык как иностранный: деловая коммуникация
LOCATION:50 уч.к 1328
END:VEVENT
BEGIN:VEVENT
UID:cqq8@192.168.245.71:3006
SEQUENCE:0
DTSTAMP:20260426T042531Z
DTSTART:20251023T090000Z
DTEND:20251023T104000Z
SUMMARY:Элективная физическая культура и спорт
LOCATION:СК Спортивный зал
END:VEVENT
BEGIN:VEVENT
UID:q5jr@192.168.245.71:3006
SEQUENCE:0
DTSTAMP:20260426T042531Z
DTSTART:20251024T070000Z
DTEND:20251024T084000Z
SUMMARY:Финансы и кредит
LOCATION:50 уч.к 1245
END:VEVENT
BEGIN:VEVENT
UID:gk3c@192.168.245.71:3006
SEQUENCE:0
DTSTAMP:20260426T042531Z
DTSTART:20251024T090000Z
DTEND:20251024T104000Z
SUMMARY:Теория вероятностей
LOCATION:50 уч.к 1341
END:VEVENT
BEGIN:VEVENT
UID:sfs4@192.168.245.71:3006
SEQUENCE:0
DTSTAMP:20260426T042531Z
DTSTART:20251024T110000Z
DTEND:20251024T124000Z
SUMMARY:История России
LOCATION:50 уч.к 1250
END:VEVENT
BEGIN:VEVENT
UID:u7gh@192.168.245.71:3006
SEQUENCE:0
DTSTAMP:20260426T042531Z
DTSTART:20251025T090000Z
DTEND:20251025T104000Z
SUMMARY:Цифровая аналитика
LOCATION:50 уч.к 1210
END:VEVENT
END:VCALENDAR