BEGIN:VCALENDAR
VERSION:2.0
PRODID:-//spbstu.ru//ical//RU
NAME:Расписание группы 3733801/40001
X-WR-CALNAME:Расписание группы 3733801/40001
TIMEZONE-ID:Europe/Moscow
X-WR-TIMEZONE:Europe/Moscow
BEGIN:VEVENT
UID:j2ye@192.168.245.71:3006
SEQUENCE:0
DTSTAMP:20260425T135450Z
DTSTART:20251110T070000Z
DTEND:20251110T084000Z
SUMMARY:История России
LOCATION:ГЗ 235
END:VEVENT
BEGIN:VEVENT
UID:iu8l@192.168.245.71:3006
SEQUENCE:0
DTSTAMP:20260425T135450Z
DTSTART:20251110T090000Z
DTEND:20251110T104000Z
SUMMARY:Иностранный язык: деловая коммуникация
LOCATION:16 к. 411
END:VEVENT
BEGIN:VEVENT
UID:ywf0@192.168.245.71:3006
SEQUENCE:0
DTSTAMP:20260425T135450Z
DTSTART:20251110T110000Z
DTEND:20251110T124000Z
SUMMARY:Элективная физическая культура и спорт
LOCATION:СК Спортивный зал
END:VEVENT
BEGIN:VEVENT
UID:xuyj@192.168.245.71:3006
SEQUENCE:0
DTSTAMP:20260425T135450Z
DTSTART:20251110T130000Z
DTEND:20251110T144000Z
SUMMARY:Менеджмент
LOCATION:ГЗ 235
END:VEVENT
BEGIN:VEVENT
UID:z0gm@192.168.245.71:3006
SEQUENCE:0
DTSTAMP:20260425T135450Z
DTSTART:20251111T070000Z
DTEND:20251111T084000Z
SUMMARY:Менеджмент
LOCATION:50 уч.к 1317
END:VEVENT
BEGIN:VEVENT
UID:xqah@192.168.245.71:3006
SEQUENCE:0
DTSTAMP:20260425T135450Z
DTSTART:20251111T090000Z
DTEND:20251111T104000Z
SUMMARY:Бухгалтерский учет
LOCATION:50 уч.к 1239
END:VEVENT
BEGIN:VEVENT
UID:65mu@192.168.245.71:3006
SEQUENCE:0
DTSTAMP:20260425T135450Z
DTSTART:20251111T150000Z
DTEND:20251111T171500Z
SUMMARY:Русский язык как иностранный. Язык специальности
LOCATION:15 к. 430
END:VEVENT
BEGIN:VEVENT
UID:1g2a@192.168.245.71:3006
SEQUENCE:0
DTSTAMP:20260425T135450Z
DTSTART:20251112T090000Z
DTEND:20251112T104000Z
SUMMARY:Теория вероятностей
LOCATION:50 уч.к 1239
END:VEVENT
BEGIN:VEVENT
UID:wu1s@192.168.245.71:3006
SEQUENCE:0
DTSTAMP:20260425T135450Z
DTSTART:20251112T110000Z
DTEND:20251112T124000Z
SUMMARY:Управление качеством
LOCATION:50 уч.к 1106
END:VEVENT
BEGIN:VEVENT
UID:5dit@192.168.245.71:3006
SEQUENCE:0
DTSTAMP:20260425T135450Z
DTSTART:20251112T150000Z
DTEND:20251112T164000Z
SUMMARY:Русский язык как иностранный: деловая коммуникация
LOCATION:50 уч.к 1250
END:VEVENT
BEGIN:VEVENT
UID:tole@192.168.245.71:3006
SEQUENCE:0
DTSTAMP:20260425T135450Z
DTSTART:20251113T090000Z
DTEND:20251113T104000Z
SUMMARY:Элективная физическая культура и спорт
LOCATION:СК Спортивный зал
END:VEVENT
BEGIN:VEVENT
UID:kf9f@192.168.245.71:3006
SEQUENCE:0
DTSTAMP:20260425T135450Z
DTSTART:20251113T110000Z
DTEND:20251113T124000Z
SUMMARY:Бухгалтерский учет
LOCATION:50 уч.к 1105
END:VEVENT
BEGIN:VEVENT
UID:wfcw@192.168.245.71:3006
SEQUENCE:0
DTSTAMP:20260425T135450Z
DTSTART:20251114T070000Z
DTEND:20251114T084000Z
SUMMARY:Финансы и кредит
LOCATION:50 уч.к 1245
END:VEVENT
BEGIN:VEVENT
UID:4oqq@192.168.245.71:3006
SEQUENCE:0
DTSTAMP:20260425T135450Z
DTSTART:20251114T090000Z
DTEND:20251114T104000Z
SUMMARY:Теория вероятностей
LOCATION:50 уч.к 1341
END:VEVENT
END:VCALENDAR