BEGIN:VCALENDAR
VERSION:2.0
PRODID:-//spbstu.ru//ical//RU
NAME:Расписание группы 3733801/40001
X-WR-CALNAME:Расписание группы 3733801/40001
TIMEZONE-ID:Europe/Moscow
X-WR-TIMEZONE:Europe/Moscow
BEGIN:VEVENT
UID:ohaj@192.168.245.71:3006
SEQUENCE:0
DTSTAMP:20260422T121926Z
DTSTART:20260504T070000Z
DTEND:20260504T084000Z
SUMMARY:Иностранный язык. Профессионально-ориентированный курс
LOCATION:16 к. 410
END:VEVENT
BEGIN:VEVENT
UID:ytae@192.168.245.71:3006
SEQUENCE:0
DTSTAMP:20260422T121926Z
DTSTART:20260504T090000Z
DTEND:20260504T104000Z
SUMMARY:Иностранный язык. Профессионально-ориентированный курс
LOCATION:16 к. 410
END:VEVENT
BEGIN:VEVENT
UID:xhdc@192.168.245.71:3006
SEQUENCE:0
DTSTAMP:20260422T121926Z
DTSTART:20260504T110000Z
DTEND:20260504T124000Z
SUMMARY:Элективная  физическая культура и спорт
LOCATION:СК Спортивный зал
END:VEVENT
BEGIN:VEVENT
UID:f47d@192.168.245.71:3006
SEQUENCE:0
DTSTAMP:20260422T121926Z
DTSTART:20260504T130000Z
DTEND:20260504T144000Z
SUMMARY:Маркетинг
LOCATION:ГЗ 235
END:VEVENT
BEGIN:VEVENT
UID:7nyc@192.168.245.71:3006
SEQUENCE:0
DTSTAMP:20260422T121926Z
DTSTART:20260505T150000Z
DTEND:20260505T180000Z
SUMMARY:Русский язык как иностранный: Профессионально-ориентированный курс
LOCATION:50 уч.к 1428
END:VEVENT
BEGIN:VEVENT
UID:tpdd@192.168.245.71:3006
SEQUENCE:0
DTSTAMP:20260422T121926Z
DTSTART:20260506T070000Z
DTEND:20260506T084000Z
SUMMARY:Финансовая отчетность
LOCATION:50 уч.к 1427
END:VEVENT
BEGIN:VEVENT
UID:gj3y@192.168.245.71:3006
SEQUENCE:0
DTSTAMP:20260422T121926Z
DTSTART:20260506T090000Z
DTEND:20260506T104000Z
SUMMARY:Математические методы в экономике и управлении
LOCATION:50 уч.к 1205
END:VEVENT
BEGIN:VEVENT
UID:vjn2@192.168.245.71:3006
SEQUENCE:0
DTSTAMP:20260422T121926Z
DTSTART:20260507T070000Z
DTEND:20260507T084000Z
SUMMARY:Финансовая отчетность
LOCATION:50 уч.к 1341
END:VEVENT
BEGIN:VEVENT
UID:v73b@192.168.245.71:3006
SEQUENCE:0
DTSTAMP:20260422T121926Z
DTSTART:20260507T090000Z
DTEND:20260507T104000Z
SUMMARY:Элективная  физическая культура и спорт
LOCATION:СК Спортивный зал
END:VEVENT
BEGIN:VEVENT
UID:7ia4@192.168.245.71:3006
SEQUENCE:0
DTSTAMP:20260422T121926Z
DTSTART:20260507T110000Z
DTEND:20260507T124000Z
SUMMARY:Математические методы в экономике и управлении
LOCATION:50 уч.к 1105
END:VEVENT
BEGIN:VEVENT
UID:xdor@192.168.245.71:3006
SEQUENCE:0
DTSTAMP:20260422T121926Z
DTSTART:20260508T070000Z
DTEND:20260508T084000Z
SUMMARY:Мировая экономика
LOCATION:ГЗ 122
END:VEVENT
BEGIN:VEVENT
UID:2gll@192.168.245.71:3006
SEQUENCE:0
DTSTAMP:20260422T121926Z
DTSTART:20260508T090000Z
DTEND:20260508T104000Z
SUMMARY:Мировая экономика
LOCATION:50 уч.к 1331
END:VEVENT
BEGIN:VEVENT
UID:e0nz@192.168.245.71:3006
SEQUENCE:0
DTSTAMP:20260422T121926Z
DTSTART:20260508T110000Z
DTEND:20260508T124000Z
SUMMARY:Статистика
LOCATION:50 уч.к 1210
END:VEVENT
END:VCALENDAR