BEGIN:VCALENDAR
VERSION:2.0
PRODID:-//spbstu.ru//ical//RU
NAME:Расписание группы 3733801/40003
X-WR-CALNAME:Расписание группы 3733801/40003
TIMEZONE-ID:Europe/Moscow
X-WR-TIMEZONE:Europe/Moscow
BEGIN:VEVENT
UID:hfu3@192.168.245.71:3006
SEQUENCE:0
DTSTAMP:20260423T171721Z
DTSTART:20260518T070000Z
DTEND:20260518T084000Z
SUMMARY:Иностранный язык. Профессионально-ориентированный курс
LOCATION:16 к. 411
END:VEVENT
BEGIN:VEVENT
UID:8ecr@192.168.245.71:3006
SEQUENCE:0
DTSTAMP:20260423T171721Z
DTSTART:20260518T090000Z
DTEND:20260518T104000Z
SUMMARY:Иностранный язык. Профессионально-ориентированный курс
LOCATION:16 к. 411
END:VEVENT
BEGIN:VEVENT
UID:2mkb@192.168.245.71:3006
SEQUENCE:0
DTSTAMP:20260423T171721Z
DTSTART:20260518T130000Z
DTEND:20260518T144000Z
SUMMARY:Маркетинг
LOCATION:ГЗ 235
END:VEVENT
BEGIN:VEVENT
UID:4dz5@192.168.245.71:3006
SEQUENCE:0
DTSTAMP:20260423T171721Z
DTSTART:20260519T150000Z
DTEND:20260519T180000Z
SUMMARY:Русский язык как иностранный: Профессионально-ориентированный курс
LOCATION:50 уч.к 1428
END:VEVENT
BEGIN:VEVENT
UID:9jsx@192.168.245.71:3006
SEQUENCE:0
DTSTAMP:20260423T171721Z
DTSTART:20260521T110000Z
DTEND:20260521T124000Z
SUMMARY:Математические методы в экономике и управлении
LOCATION:50 уч.к 1105
END:VEVENT
BEGIN:VEVENT
UID:dx42@192.168.245.71:3006
SEQUENCE:0
DTSTAMP:20260423T171721Z
DTSTART:20260522T070000Z
DTEND:20260522T084000Z
SUMMARY:Мировая экономика
LOCATION:ГЗ 122
END:VEVENT
BEGIN:VEVENT
UID:gxms@192.168.245.71:3006
SEQUENCE:0
DTSTAMP:20260423T171721Z
DTSTART:20260523T070000Z
DTEND:20260523T084000Z
SUMMARY:Статистика
LOCATION:50 уч.к 1210
END:VEVENT
BEGIN:VEVENT
UID:es9y@192.168.245.71:3006
SEQUENCE:0
DTSTAMP:20260423T171721Z
DTSTART:20260523T090000Z
DTEND:20260523T104000Z
SUMMARY:Математические методы в экономике и управлении
LOCATION:50 уч.к 1211
END:VEVENT
END:VCALENDAR