BEGIN:VCALENDAR
VERSION:2.0
PRODID:-//spbstu.ru//ical//RU
NAME:Расписание группы 3733801/40004
X-WR-CALNAME:Расписание группы 3733801/40004
TIMEZONE-ID:Europe/Moscow
X-WR-TIMEZONE:Europe/Moscow
BEGIN:VEVENT
UID:pfa0@192.168.245.71:3006
SEQUENCE:0
DTSTAMP:20260424T165018Z
DTSTART:20251117T070000Z
DTEND:20251117T084000Z
SUMMARY:Управление качеством
LOCATION:ГЗ 235
END:VEVENT
BEGIN:VEVENT
UID:v5xu@192.168.245.71:3006
SEQUENCE:0
DTSTAMP:20260424T165018Z
DTSTART:20251117T090000Z
DTEND:20251117T104000Z
SUMMARY:Иностранный язык: деловая коммуникация
LOCATION:16 к. 403
END:VEVENT
BEGIN:VEVENT
UID:zm7a@192.168.245.71:3006
SEQUENCE:0
DTSTAMP:20260424T165018Z
DTSTART:20251117T110000Z
DTEND:20251117T124000Z
SUMMARY:Элективная физическая культура и спорт
LOCATION:СК Спортивный зал
END:VEVENT
BEGIN:VEVENT
UID:meit@192.168.245.71:3006
SEQUENCE:0
DTSTAMP:20260424T165018Z
DTSTART:20251117T130000Z
DTEND:20251117T144000Z
SUMMARY:Менеджмент
LOCATION:ГЗ 235
END:VEVENT
BEGIN:VEVENT
UID:tswn@192.168.245.71:3006
SEQUENCE:0
DTSTAMP:20260424T165018Z
DTSTART:20251118T150000Z
DTEND:20251118T171500Z
SUMMARY:Русский язык как иностранный. Язык специальности
LOCATION:15 к. 430
END:VEVENT
BEGIN:VEVENT
UID:hdq7@192.168.245.71:3006
SEQUENCE:0
DTSTAMP:20260424T165018Z
DTSTART:20251119T150000Z
DTEND:20251119T164000Z
SUMMARY:Русский язык как иностранный: деловая коммуникация
LOCATION:50 уч.к 1328
END:VEVENT
BEGIN:VEVENT
UID:hv9n@192.168.245.71:3006
SEQUENCE:0
DTSTAMP:20260424T165018Z
DTSTART:20251120T090000Z
DTEND:20251120T104000Z
SUMMARY:Элективная физическая культура и спорт
LOCATION:СК Спортивный зал
END:VEVENT
BEGIN:VEVENT
UID:pt3o@192.168.245.71:3006
SEQUENCE:0
DTSTAMP:20260424T165018Z
DTSTART:20251120T110000Z
DTEND:20251120T124000Z
SUMMARY:Финансы и кредит
LOCATION:50 уч.к 1338
END:VEVENT
BEGIN:VEVENT
UID:u9g2@192.168.245.71:3006
SEQUENCE:0
DTSTAMP:20260424T165018Z
DTSTART:20251120T130000Z
DTEND:20251120T144000Z
SUMMARY:Бухгалтерский учет
LOCATION:50 уч.к 1234
END:VEVENT
BEGIN:VEVENT
UID:vumr@192.168.245.71:3006
SEQUENCE:0
DTSTAMP:20260424T165018Z
DTSTART:20251121T070000Z
DTEND:20251121T084000Z
SUMMARY:Финансы и кредит
LOCATION:50 уч.к 1218
END:VEVENT
BEGIN:VEVENT
UID:zyp4@192.168.245.71:3006
SEQUENCE:0
DTSTAMP:20260424T165018Z
DTSTART:20251121T090000Z
DTEND:20251121T104000Z
SUMMARY:Управление качеством
LOCATION:50 уч.к 1106
END:VEVENT
BEGIN:VEVENT
UID:ue89@192.168.245.71:3006
SEQUENCE:0
DTSTAMP:20260424T165018Z
DTSTART:20251121T110000Z
DTEND:20251121T124000Z
SUMMARY:Теория вероятностей
LOCATION:50 уч.к 1338
END:VEVENT
BEGIN:VEVENT
UID:5rag@192.168.245.71:3006
SEQUENCE:0
DTSTAMP:20260424T165018Z
DTSTART:20251121T130000Z
DTEND:20251121T144000Z
SUMMARY:Менеджмент
LOCATION:50 уч.к 1427
END:VEVENT
BEGIN:VEVENT
UID:v7on@192.168.245.71:3006
SEQUENCE:0
DTSTAMP:20260424T165018Z
DTSTART:20251122T070000Z
DTEND:20251122T084000Z
SUMMARY:Цифровая аналитика
LOCATION:50 уч.к 1210
END:VEVENT
BEGIN:VEVENT
UID:dg48@192.168.245.71:3006
SEQUENCE:0
DTSTAMP:20260424T165018Z
DTSTART:20251122T110000Z
DTEND:20251122T124000Z
SUMMARY:Теория вероятностей
LOCATION:50 уч.к 1324
END:VEVENT
END:VCALENDAR