BEGIN:VCALENDAR
VERSION:2.0
PRODID:-//spbstu.ru//ical//RU
NAME:Расписание группы 3733801/40004
X-WR-CALNAME:Расписание группы 3733801/40004
TIMEZONE-ID:Europe/Moscow
X-WR-TIMEZONE:Europe/Moscow
BEGIN:VEVENT
UID:3vb1@192.168.245.71:3006
SEQUENCE:0
DTSTAMP:20260423T030952Z
DTSTART:20260202T070000Z
DTEND:20260202T084000Z
SUMMARY:Иностранный язык. Профессионально-ориентированный курс
LOCATION:16 к. 402
END:VEVENT
BEGIN:VEVENT
UID:64ol@192.168.245.71:3006
SEQUENCE:0
DTSTAMP:20260423T030952Z
DTSTART:20260202T090000Z
DTEND:20260202T104000Z
SUMMARY:Иностранный язык. Профессионально-ориентированный курс
LOCATION:16 к. 402
END:VEVENT
BEGIN:VEVENT
UID:fb8z@192.168.245.71:3006
SEQUENCE:0
DTSTAMP:20260423T030952Z
DTSTART:20260202T130000Z
DTEND:20260202T144000Z
SUMMARY:Маркетинг
LOCATION:ГЗ 235
END:VEVENT
BEGIN:VEVENT
UID:9g0v@192.168.245.71:3006
SEQUENCE:0
DTSTAMP:20260423T030952Z
DTSTART:20260203T050000Z
DTEND:20260203T060000Z
SUMMARY:Основы проектной деятельности
LOCATION:DL Дистанционно
END:VEVENT
BEGIN:VEVENT
UID:7rto@192.168.245.71:3006
SEQUENCE:0
DTSTAMP:20260423T030952Z
DTSTART:20260204T090000Z
DTEND:20260204T104000Z
SUMMARY:Безопасность жизнедеятельности
LOCATION:50 уч.к 1422
END:VEVENT
BEGIN:VEVENT
UID:fi5h@192.168.245.71:3006
SEQUENCE:0
DTSTAMP:20260423T030952Z
DTSTART:20260204T110000Z
DTEND:20260204T124000Z
SUMMARY:Мировая экономика
LOCATION:50 уч.к 1423
END:VEVENT
BEGIN:VEVENT
UID:l1o1@192.168.245.71:3006
SEQUENCE:0
DTSTAMP:20260423T030952Z
DTSTART:20260204T130000Z
DTEND:20260204T144000Z
SUMMARY:Математические методы в экономике и управлении
LOCATION:50 уч.к 1107
END:VEVENT
BEGIN:VEVENT
UID:p51g@192.168.245.71:3006
SEQUENCE:0
DTSTAMP:20260423T030952Z
DTSTART:20260205T050000Z
DTEND:20260205T064000Z
SUMMARY:Статистика
LOCATION:50 уч.к 1109
END:VEVENT
BEGIN:VEVENT
UID:tcsq@192.168.245.71:3006
SEQUENCE:0
DTSTAMP:20260423T030952Z
DTSTART:20260205T070000Z
DTEND:20260205T084000Z
SUMMARY:Финансовая отчетность
LOCATION:50 уч.к 1338
END:VEVENT
BEGIN:VEVENT
UID:jhmv@192.168.245.71:3006
SEQUENCE:0
DTSTAMP:20260423T030952Z
DTSTART:20260206T050000Z
DTEND:20260206T064000Z
SUMMARY:Статистика
LOCATION:ГЗ 235
END:VEVENT
BEGIN:VEVENT
UID:wbcm@192.168.245.71:3006
SEQUENCE:0
DTSTAMP:20260423T030952Z
DTSTART:20260206T070000Z
DTEND:20260206T084000Z
SUMMARY:Мировая экономика
LOCATION:ГЗ 257
END:VEVENT
BEGIN:VEVENT
UID:sti8@192.168.245.71:3006
SEQUENCE:0
DTSTAMP:20260423T030952Z
DTSTART:20260206T090000Z
DTEND:20260206T104000Z
SUMMARY:Финансовая отчетность
LOCATION:50 уч.к 1234
END:VEVENT
END:VCALENDAR