BEGIN:VCALENDAR
VERSION:2.0
PRODID:-//spbstu.ru//ical//RU
NAME:Расписание группы 3733801/40004
X-WR-CALNAME:Расписание группы 3733801/40004
TIMEZONE-ID:Europe/Moscow
X-WR-TIMEZONE:Europe/Moscow
BEGIN:VEVENT
UID:ajo2@192.168.245.71:3006
SEQUENCE:0
DTSTAMP:20260422T050837Z
DTSTART:20260511T070000Z
DTEND:20260511T084000Z
SUMMARY:Иностранный язык. Профессионально-ориентированный курс
LOCATION:16 к. 402
END:VEVENT
BEGIN:VEVENT
UID:7cmk@192.168.245.71:3006
SEQUENCE:0
DTSTAMP:20260422T050837Z
DTSTART:20260511T090000Z
DTEND:20260511T104000Z
SUMMARY:Иностранный язык. Профессионально-ориентированный курс
LOCATION:16 к. 402
END:VEVENT
BEGIN:VEVENT
UID:0uo4@192.168.245.71:3006
SEQUENCE:0
DTSTAMP:20260422T050837Z
DTSTART:20260511T110000Z
DTEND:20260511T124000Z
SUMMARY:Элективная  физическая культура и спорт
LOCATION:СК Спортивный зал
END:VEVENT
BEGIN:VEVENT
UID:8f4z@192.168.245.71:3006
SEQUENCE:0
DTSTAMP:20260422T050837Z
DTSTART:20260511T130000Z
DTEND:20260511T144000Z
SUMMARY:Маркетинг
LOCATION:ГЗ 235
END:VEVENT
BEGIN:VEVENT
UID:3i9n@192.168.245.71:3006
SEQUENCE:0
DTSTAMP:20260422T050837Z
DTSTART:20260512T150000Z
DTEND:20260512T180000Z
SUMMARY:Русский язык как иностранный: Профессионально-ориентированный курс
LOCATION:50 уч.к 1428
END:VEVENT
BEGIN:VEVENT
UID:csrh@192.168.245.71:3006
SEQUENCE:0
DTSTAMP:20260422T050837Z
DTSTART:20260513T110000Z
DTEND:20260513T124000Z
SUMMARY:Мировая экономика
LOCATION:50 уч.к 1423
END:VEVENT
BEGIN:VEVENT
UID:cdyh@192.168.245.71:3006
SEQUENCE:0
DTSTAMP:20260422T050837Z
DTSTART:20260513T130000Z
DTEND:20260513T144000Z
SUMMARY:Математические методы в экономике и управлении
LOCATION:50 уч.к 1107
END:VEVENT
BEGIN:VEVENT
UID:ut5s@192.168.245.71:3006
SEQUENCE:0
DTSTAMP:20260422T050837Z
DTSTART:20260514T050000Z
DTEND:20260514T064000Z
SUMMARY:Статистика
LOCATION:50 уч.к 1109
END:VEVENT
BEGIN:VEVENT
UID:hm73@192.168.245.71:3006
SEQUENCE:0
DTSTAMP:20260422T050837Z
DTSTART:20260514T070000Z
DTEND:20260514T084000Z
SUMMARY:Финансовая отчетность
LOCATION:50 уч.к 1338
END:VEVENT
BEGIN:VEVENT
UID:4az9@192.168.245.71:3006
SEQUENCE:0
DTSTAMP:20260422T050837Z
DTSTART:20260514T090000Z
DTEND:20260514T104000Z
SUMMARY:Элективная  физическая культура и спорт
LOCATION:СК Спортивный зал
END:VEVENT
BEGIN:VEVENT
UID:0075@192.168.245.71:3006
SEQUENCE:0
DTSTAMP:20260422T050837Z
DTSTART:20260515T050000Z
DTEND:20260515T064000Z
SUMMARY:Статистика
LOCATION:ГЗ 235
END:VEVENT
BEGIN:VEVENT
UID:tks1@192.168.245.71:3006
SEQUENCE:0
DTSTAMP:20260422T050837Z
DTSTART:20260515T070000Z
DTEND:20260515T084000Z
SUMMARY:Мировая экономика
LOCATION:ГЗ 257
END:VEVENT
BEGIN:VEVENT
UID:pnos@192.168.245.71:3006
SEQUENCE:0
DTSTAMP:20260422T050837Z
DTSTART:20260515T090000Z
DTEND:20260515T104000Z
SUMMARY:Финансовая отчетность
LOCATION:50 уч.к 1234
END:VEVENT
END:VCALENDAR