BEGIN:VCALENDAR
VERSION:2.0
PRODID:-//spbstu.ru//ical//RU
NAME:Расписание группы 3733801/40004
X-WR-CALNAME:Расписание группы 3733801/40004
TIMEZONE-ID:Europe/Moscow
X-WR-TIMEZONE:Europe/Moscow
BEGIN:VEVENT
UID:00nl@192.168.245.71:3006
SEQUENCE:0
DTSTAMP:20260422T124141Z
DTSTART:20260525T070000Z
DTEND:20260525T104000Z
SUMMARY:Иностранный язык. Профессионально-ориентированный курс
LOCATION:16 к. 402
END:VEVENT
BEGIN:VEVENT
UID:ccpk@192.168.245.71:3006
SEQUENCE:0
DTSTAMP:20260422T124141Z
DTSTART:20260525T110000Z
DTEND:20260525T140000Z
SUMMARY:Элективная  физическая культура и спорт
LOCATION:СК Спортивный зал
END:VEVENT
BEGIN:VEVENT
UID:6vgu@192.168.245.71:3006
SEQUENCE:0
DTSTAMP:20260422T124141Z
DTSTART:20260526T100000Z
DTEND:20260526T124000Z
SUMMARY:Основы проектной деятельности
LOCATION:50 уч.к 1218
END:VEVENT
BEGIN:VEVENT
UID:0o16@192.168.245.71:3006
SEQUENCE:0
DTSTAMP:20260422T124141Z
DTSTART:20260527T130000Z
DTEND:20260527T145000Z
SUMMARY:Безопасность жизнедеятельности
LOCATION:50 уч.к 1432
END:VEVENT
BEGIN:VEVENT
UID:to6t@192.168.245.71:3006
SEQUENCE:0
DTSTAMP:20260422T124141Z
DTSTART:20260528T070000Z
DTEND:20260528T094000Z
SUMMARY:Математические методы в экономике и управлении
LOCATION:50 уч.к 1336а
END:VEVENT
BEGIN:VEVENT
UID:ycvj@192.168.245.71:3006
SEQUENCE:0
DTSTAMP:20260422T124141Z
DTSTART:20260529T130000Z
DTEND:20260529T145000Z
SUMMARY:Статистика
LOCATION:50 уч.к 1104
END:VEVENT
END:VCALENDAR