BEGIN:VCALENDAR
VERSION:2.0
PRODID:-//spbstu.ru//ical//RU
NAME:Расписание группы 3733801/40005
X-WR-CALNAME:Расписание группы 3733801/40005
TIMEZONE-ID:Europe/Moscow
X-WR-TIMEZONE:Europe/Moscow
BEGIN:VEVENT
UID:ahaw@192.168.245.71:3006
SEQUENCE:0
DTSTAMP:20260421T081438Z
DTSTART:20260413T070000Z
DTEND:20260413T084000Z
SUMMARY:Иностранный язык. Профессионально-ориентированный курс
LOCATION:16 к. 401
END:VEVENT
BEGIN:VEVENT
UID:opx7@192.168.245.71:3006
SEQUENCE:0
DTSTAMP:20260421T081438Z
DTSTART:20260413T090000Z
DTEND:20260413T104000Z
SUMMARY:Иностранный язык. Профессионально-ориентированный курс
LOCATION:16 к. 401
END:VEVENT
BEGIN:VEVENT
UID:flmp@192.168.245.71:3006
SEQUENCE:0
DTSTAMP:20260421T081438Z
DTSTART:20260413T110000Z
DTEND:20260413T124000Z
SUMMARY:Элективная  физическая культура и спорт
LOCATION:СК Спортивный зал
END:VEVENT
BEGIN:VEVENT
UID:sedo@192.168.245.71:3006
SEQUENCE:0
DTSTAMP:20260421T081438Z
DTSTART:20260413T130000Z
DTEND:20260413T144000Z
SUMMARY:Маркетинг
LOCATION:ГЗ 235
END:VEVENT
BEGIN:VEVENT
UID:19l4@192.168.245.71:3006
SEQUENCE:0
DTSTAMP:20260421T081438Z
DTSTART:20260415T070000Z
DTEND:20260415T084000Z
SUMMARY:Мировая экономика
LOCATION:50 уч.к 1423
END:VEVENT
BEGIN:VEVENT
UID:wpzy@192.168.245.71:3006
SEQUENCE:0
DTSTAMP:20260421T081438Z
DTSTART:20260415T090000Z
DTEND:20260415T104000Z
SUMMARY:Маркетинг
LOCATION:50 уч.к 1245
END:VEVENT
BEGIN:VEVENT
UID:zlt5@192.168.245.71:3006
SEQUENCE:0
DTSTAMP:20260421T081438Z
DTSTART:20260415T110000Z
DTEND:20260415T124000Z
SUMMARY:Финансовая отчетность
LOCATION:50 уч.к 1204
END:VEVENT
BEGIN:VEVENT
UID:231j@192.168.245.71:3006
SEQUENCE:0
DTSTAMP:20260421T081438Z
DTSTART:20260416T070000Z
DTEND:20260416T084000Z
SUMMARY:Финансовая отчетность
LOCATION:50 уч.к 1338
END:VEVENT
BEGIN:VEVENT
UID:4sz6@192.168.245.71:3006
SEQUENCE:0
DTSTAMP:20260421T081438Z
DTSTART:20260416T090000Z
DTEND:20260416T104000Z
SUMMARY:Элективная  физическая культура и спорт
LOCATION:СК Спортивный зал
END:VEVENT
BEGIN:VEVENT
UID:vzcx@192.168.245.71:3006
SEQUENCE:0
DTSTAMP:20260421T081438Z
DTSTART:20260416T110000Z
DTEND:20260416T124000Z
SUMMARY:Безопасность жизнедеятельности
LOCATION:ГЗ 235
END:VEVENT
BEGIN:VEVENT
UID:fv6r@192.168.245.71:3006
SEQUENCE:0
DTSTAMP:20260421T081438Z
DTSTART:20260417T050000Z
DTEND:20260417T064000Z
SUMMARY:Статистика
LOCATION:ГЗ 235
END:VEVENT
BEGIN:VEVENT
UID:im2j@192.168.245.71:3006
SEQUENCE:0
DTSTAMP:20260421T081438Z
DTSTART:20260417T070000Z
DTEND:20260417T084000Z
SUMMARY:Мировая экономика
LOCATION:ГЗ 257
END:VEVENT
BEGIN:VEVENT
UID:sg8l@192.168.245.71:3006
SEQUENCE:0
DTSTAMP:20260421T081438Z
DTSTART:20260418T070000Z
DTEND:20260418T084000Z
SUMMARY:Математические методы в экономике и управлении
LOCATION:50 уч.к 1211
END:VEVENT
BEGIN:VEVENT
UID:9n9h@192.168.245.71:3006
SEQUENCE:0
DTSTAMP:20260421T081438Z
DTSTART:20260418T090000Z
DTEND:20260418T104000Z
SUMMARY:Статистика
LOCATION:50 уч.к 1210
END:VEVENT
END:VCALENDAR