BEGIN:VCALENDAR
VERSION:2.0
PRODID:-//spbstu.ru//ical//RU
NAME:Расписание группы 3733801/40982
X-WR-CALNAME:Расписание группы 3733801/40982
TIMEZONE-ID:Europe/Moscow
X-WR-TIMEZONE:Europe/Moscow
BEGIN:VEVENT
UID:h5ul@192.168.245.71:3006
SEQUENCE:0
DTSTAMP:20260421T045411Z
DTSTART:20260427T070000Z
DTEND:20260427T084000Z
SUMMARY:Математические методы в экономике и управлении
LOCATION:50 уч.к 1205
END:VEVENT
BEGIN:VEVENT
UID:fpjh@192.168.245.71:3006
SEQUENCE:0
DTSTAMP:20260421T045411Z
DTSTART:20260427T090000Z
DTEND:20260427T104000Z
SUMMARY:Управление качеством
LOCATION:50 уч.к 1106
END:VEVENT
BEGIN:VEVENT
UID:xqyd@192.168.245.71:3006
SEQUENCE:0
DTSTAMP:20260421T045411Z
DTSTART:20260427T110000Z
DTEND:20260427T124000Z
SUMMARY:Элективная  физическая культура и спорт
LOCATION:СК Спортивный зал
END:VEVENT
BEGIN:VEVENT
UID:80m6@192.168.245.71:3006
SEQUENCE:0
DTSTAMP:20260421T045411Z
DTSTART:20260428T063000Z
DTEND:20260428T080000Z
SUMMARY:Карьерная адаптивность: Русский язык как иностранный
LOCATION:15 к. 617
END:VEVENT
BEGIN:VEVENT
UID:f01c@192.168.245.71:3006
SEQUENCE:0
DTSTAMP:20260421T045411Z
DTSTART:20260428T110000Z
DTEND:20260428T124000Z
SUMMARY:Статистика
LOCATION:50 уч.к 1101
END:VEVENT
BEGIN:VEVENT
UID:6maj@192.168.245.71:3006
SEQUENCE:0
DTSTAMP:20260421T045411Z
DTSTART:20260428T130000Z
DTEND:20260428T144000Z
SUMMARY:Статистика
LOCATION:50 уч.к 1338
END:VEVENT
BEGIN:VEVENT
UID:nxki@192.168.245.71:3006
SEQUENCE:0
DTSTAMP:20260421T045411Z
DTSTART:20260429T070000Z
DTEND:20260429T083000Z
SUMMARY:Карьерная адаптивность: Русский язык как иностранный
LOCATION:15 к. 414
END:VEVENT
BEGIN:VEVENT
UID:kis5@192.168.245.71:3006
SEQUENCE:0
DTSTAMP:20260421T045411Z
DTSTART:20260429T070000Z
DTEND:20260429T083000Z
SUMMARY:Карьерная адаптивность: Русский язык как иностранный
LOCATION:15 к. 507
END:VEVENT
BEGIN:VEVENT
UID:hiy8@192.168.245.71:3006
SEQUENCE:0
DTSTAMP:20260421T045411Z
DTSTART:20260429T090000Z
DTEND:20260429T103000Z
SUMMARY:Карьерная адаптивность: Русский язык как иностранный
LOCATION:15 к. 507
END:VEVENT
BEGIN:VEVENT
UID:180o@192.168.245.71:3006
SEQUENCE:0
DTSTAMP:20260421T045411Z
DTSTART:20260429T090000Z
DTEND:20260429T103000Z
SUMMARY:Карьерная адаптивность: Русский язык как иностранный
LOCATION:15 к. 414
END:VEVENT
BEGIN:VEVENT
UID:ioe2@192.168.245.71:3006
SEQUENCE:0
DTSTAMP:20260421T045411Z
DTSTART:20260430T070000Z
DTEND:20260430T084000Z
SUMMARY:Финансовая отчетность
LOCATION:50 уч.к 1338
END:VEVENT
BEGIN:VEVENT
UID:arvd@192.168.245.71:3006
SEQUENCE:0
DTSTAMP:20260421T045411Z
DTSTART:20260430T090000Z
DTEND:20260430T104000Z
SUMMARY:Элективная  физическая культура и спорт
LOCATION:СК Спортивный зал
END:VEVENT
BEGIN:VEVENT
UID:pt34@192.168.245.71:3006
SEQUENCE:0
DTSTAMP:20260421T045411Z
DTSTART:20260502T090000Z
DTEND:20260502T103000Z
SUMMARY:Карьерная адаптивность: Русский язык как иностранный
LOCATION:DL Дистанционно
END:VEVENT
BEGIN:VEVENT
UID:i8vo@192.168.245.71:3006
SEQUENCE:0
DTSTAMP:20260421T045411Z
DTSTART:20260502T110000Z
DTEND:20260502T123000Z
SUMMARY:Карьерная адаптивность: Русский язык как иностранный
LOCATION:DL Дистанционно
END:VEVENT
END:VCALENDAR