BEGIN:VCALENDAR
VERSION:2.0
PRODID:-//spbstu.ru//ical//RU
NAME:Расписание группы 3733802/40002
X-WR-CALNAME:Расписание группы 3733802/40002
TIMEZONE-ID:Europe/Moscow
X-WR-TIMEZONE:Europe/Moscow
BEGIN:VEVENT
UID:p6pu@192.168.245.71:3006
SEQUENCE:0
DTSTAMP:20260424T235044Z
DTSTART:20251006T070000Z
DTEND:20251006T084000Z
SUMMARY:Цифровая аналитика
LOCATION:50 уч.к 1210
END:VEVENT
BEGIN:VEVENT
UID:9fv6@192.168.245.71:3006
SEQUENCE:0
DTSTAMP:20260424T235044Z
DTSTART:20251006T090000Z
DTEND:20251006T104000Z
SUMMARY:Теория вероятностей
LOCATION:50 уч.к 1327
END:VEVENT
BEGIN:VEVENT
UID:283v@192.168.245.71:3006
SEQUENCE:0
DTSTAMP:20260424T235044Z
DTSTART:20251006T110000Z
DTEND:20251006T124000Z
SUMMARY:Теория вероятностей
LOCATION:50 уч.к 1111
END:VEVENT
BEGIN:VEVENT
UID:b5f1@192.168.245.71:3006
SEQUENCE:0
DTSTAMP:20260424T235044Z
DTSTART:20251007T070000Z
DTEND:20251007T084000Z
SUMMARY:Менеджмент
LOCATION:3 к. 215
END:VEVENT
BEGIN:VEVENT
UID:l0lh@192.168.245.71:3006
SEQUENCE:0
DTSTAMP:20260424T235044Z
DTSTART:20251007T090000Z
DTEND:20251007T104000Z
SUMMARY:Иностранный язык: деловая коммуникация
LOCATION:16 к. 411
END:VEVENT
BEGIN:VEVENT
UID:lw50@192.168.245.71:3006
SEQUENCE:0
DTSTAMP:20260424T235044Z
DTSTART:20251007T110000Z
DTEND:20251007T124000Z
SUMMARY:Элективная физическая культура и спорт
LOCATION:СК Спортивный зал
END:VEVENT
BEGIN:VEVENT
UID:epja@192.168.245.71:3006
SEQUENCE:0
DTSTAMP:20260424T235044Z
DTSTART:20251007T130000Z
DTEND:20251007T144000Z
SUMMARY:Управление качеством
LOCATION:ГЗ 235
END:VEVENT
BEGIN:VEVENT
UID:8hoe@192.168.245.71:3006
SEQUENCE:0
DTSTAMP:20260424T235044Z
DTSTART:20251008T090000Z
DTEND:20251008T104000Z
SUMMARY:Статистика
LOCATION:50 уч.к 1204
END:VEVENT
BEGIN:VEVENT
UID:w6wh@192.168.245.71:3006
SEQUENCE:0
DTSTAMP:20260424T235044Z
DTSTART:20251008T110000Z
DTEND:20251008T124000Z
SUMMARY:История России
LOCATION:50 уч.к 1427
END:VEVENT
BEGIN:VEVENT
UID:za2a@192.168.245.71:3006
SEQUENCE:0
DTSTAMP:20260424T235044Z
DTSTART:20251009T110000Z
DTEND:20251009T124000Z
SUMMARY:Управление качеством
LOCATION:50 уч.к 1106
END:VEVENT
BEGIN:VEVENT
UID:fkfm@192.168.245.71:3006
SEQUENCE:0
DTSTAMP:20260424T235044Z
DTSTART:20251009T130000Z
DTEND:20251009T144000Z
SUMMARY:Бухгалтерский учет
LOCATION:50 уч.к 1422
END:VEVENT
BEGIN:VEVENT
UID:v1o6@192.168.245.71:3006
SEQUENCE:0
DTSTAMP:20260424T235044Z
DTSTART:20251010T110000Z
DTEND:20251010T124000Z
SUMMARY:Элективная физическая культура и спорт
LOCATION:СК Спортивный зал
END:VEVENT
BEGIN:VEVENT
UID:oqff@192.168.245.71:3006
SEQUENCE:0
DTSTAMP:20260424T235044Z
DTSTART:20251010T130000Z
DTEND:20251010T144000Z
SUMMARY:Бухгалтерский учет
LOCATION:ГЗ 235
END:VEVENT
END:VCALENDAR