BEGIN:VCALENDAR
VERSION:2.0
PRODID:-//spbstu.ru//ical//RU
NAME:Расписание группы 3733802/40002
X-WR-CALNAME:Расписание группы 3733802/40002
TIMEZONE-ID:Europe/Moscow
X-WR-TIMEZONE:Europe/Moscow
BEGIN:VEVENT
UID:mz8n@192.168.245.71:3006
SEQUENCE:0
DTSTAMP:20260423T072726Z
DTSTART:20251222T100000Z
DTEND:20251222T124000Z
SUMMARY:Цифровая аналитика
LOCATION:50 уч.к 1110
END:VEVENT
BEGIN:VEVENT
UID:o12u@192.168.245.71:3006
SEQUENCE:0
DTSTAMP:20260423T072726Z
DTSTART:20251223T070000Z
DTEND:20251223T094000Z
SUMMARY:Иностранный язык: деловая коммуникация
LOCATION:16 к. 414
END:VEVENT
BEGIN:VEVENT
UID:bsb5@192.168.245.71:3006
SEQUENCE:0
DTSTAMP:20260423T072726Z
DTSTART:20251224T070000Z
DTEND:20251224T104000Z
SUMMARY:Русский язык как иностранный: деловая коммуникация
LOCATION:50 уч.к 1338
END:VEVENT
BEGIN:VEVENT
UID:mpe3@192.168.245.71:3006
SEQUENCE:0
DTSTAMP:20260423T072726Z
DTSTART:20251224T130000Z
DTEND:20251224T160000Z
SUMMARY:Модуль саморазвития (SoftSkills)
LOCATION:DL Дистанционно
END:VEVENT
BEGIN:VEVENT
UID:ptz7@192.168.245.71:3006
SEQUENCE:0
DTSTAMP:20260423T072726Z
DTSTART:20251225T100000Z
DTEND:20251225T124000Z
SUMMARY:Теория вероятностей
LOCATION:50 уч.к 1251
END:VEVENT
END:VCALENDAR