BEGIN:VCALENDAR
VERSION:2.0
PRODID:-//spbstu.ru//ical//RU
NAME:Расписание группы 3733802/40002
X-WR-CALNAME:Расписание группы 3733802/40002
TIMEZONE-ID:Europe/Moscow
X-WR-TIMEZONE:Europe/Moscow
BEGIN:VEVENT
UID:h35l@192.168.245.71:3006
SEQUENCE:0
DTSTAMP:20260423T171519Z
DTSTART:20251208T070000Z
DTEND:20251208T084000Z
SUMMARY:Менеджмент
LOCATION:50 уч.к 1427
END:VEVENT
BEGIN:VEVENT
UID:dx5p@192.168.245.71:3006
SEQUENCE:0
DTSTAMP:20260423T171519Z
DTSTART:20251208T090000Z
DTEND:20251208T104000Z
SUMMARY:Теория вероятностей
LOCATION:50 уч.к 1327
END:VEVENT
BEGIN:VEVENT
UID:33zn@192.168.245.71:3006
SEQUENCE:0
DTSTAMP:20260423T171519Z
DTSTART:20251208T110000Z
DTEND:20251208T124000Z
SUMMARY:Теория вероятностей
LOCATION:50 уч.к 1111
END:VEVENT
BEGIN:VEVENT
UID:3558@192.168.245.71:3006
SEQUENCE:0
DTSTAMP:20260423T171519Z
DTSTART:20251209T070000Z
DTEND:20251209T084000Z
SUMMARY:Менеджмент
LOCATION:3 к. 215
END:VEVENT
BEGIN:VEVENT
UID:6b9d@192.168.245.71:3006
SEQUENCE:0
DTSTAMP:20260423T171519Z
DTSTART:20251209T090000Z
DTEND:20251209T104000Z
SUMMARY:Иностранный язык: деловая коммуникация
LOCATION:16 к. 411
END:VEVENT
BEGIN:VEVENT
UID:9neo@192.168.245.71:3006
SEQUENCE:0
DTSTAMP:20260423T171519Z
DTSTART:20251209T110000Z
DTEND:20251209T124000Z
SUMMARY:Элективная физическая культура и спорт
LOCATION:СК Спортивный зал
END:VEVENT
BEGIN:VEVENT
UID:5b63@192.168.245.71:3006
SEQUENCE:0
DTSTAMP:20260423T171519Z
DTSTART:20251209T130000Z
DTEND:20251209T144000Z
SUMMARY:История России
LOCATION:ГЗ 235
END:VEVENT
BEGIN:VEVENT
UID:gqjf@192.168.245.71:3006
SEQUENCE:0
DTSTAMP:20260423T171519Z
DTSTART:20251210T090000Z
DTEND:20251210T104000Z
SUMMARY:Статистика
LOCATION:50 уч.к 1204
END:VEVENT
BEGIN:VEVENT
UID:iwj1@192.168.245.71:3006
SEQUENCE:0
DTSTAMP:20260423T171519Z
DTSTART:20251211T110000Z
DTEND:20251211T124000Z
SUMMARY:Управление качеством
LOCATION:50 уч.к 1106
END:VEVENT
BEGIN:VEVENT
UID:0ksa@192.168.245.71:3006
SEQUENCE:0
DTSTAMP:20260423T171519Z
DTSTART:20251211T130000Z
DTEND:20251211T144000Z
SUMMARY:Бухгалтерский учет
LOCATION:50 уч.к 1422
END:VEVENT
BEGIN:VEVENT
UID:6um4@192.168.245.71:3006
SEQUENCE:0
DTSTAMP:20260423T171519Z
DTSTART:20251212T110000Z
DTEND:20251212T124000Z
SUMMARY:Элективная физическая культура и спорт
LOCATION:СК Спортивный зал
END:VEVENT
BEGIN:VEVENT
UID:xrju@192.168.245.71:3006
SEQUENCE:0
DTSTAMP:20260423T171519Z
DTSTART:20251212T130000Z
DTEND:20251212T144000Z
SUMMARY:Статистика
LOCATION:ГЗ 235
END:VEVENT
END:VCALENDAR