BEGIN:VCALENDAR
VERSION:2.0
PRODID:-//spbstu.ru//ical//RU
NAME:Расписание группы 3733802/40002
X-WR-CALNAME:Расписание группы 3733802/40002
TIMEZONE-ID:Europe/Moscow
X-WR-TIMEZONE:Europe/Moscow
BEGIN:VEVENT
UID:nnxm@192.168.245.71:3006
SEQUENCE:0
DTSTAMP:20260424T202333Z
DTSTART:20250929T070000Z
DTEND:20250929T084000Z
SUMMARY:Менеджмент
LOCATION:50 уч.к 1427
END:VEVENT
BEGIN:VEVENT
UID:uhn7@192.168.245.71:3006
SEQUENCE:0
DTSTAMP:20260424T202333Z
DTSTART:20250929T090000Z
DTEND:20250929T104000Z
SUMMARY:Теория вероятностей
LOCATION:50 уч.к 1327
END:VEVENT
BEGIN:VEVENT
UID:audd@192.168.245.71:3006
SEQUENCE:0
DTSTAMP:20260424T202333Z
DTSTART:20250929T110000Z
DTEND:20250929T124000Z
SUMMARY:Теория вероятностей
LOCATION:50 уч.к 1111
END:VEVENT
BEGIN:VEVENT
UID:7vts@192.168.245.71:3006
SEQUENCE:0
DTSTAMP:20260424T202333Z
DTSTART:20250929T130000Z
DTEND:20250929T144000Z
SUMMARY:Статистика
LOCATION:50 уч.к 1105
END:VEVENT
BEGIN:VEVENT
UID:ri1l@192.168.245.71:3006
SEQUENCE:0
DTSTAMP:20260424T202333Z
DTSTART:20250930T070000Z
DTEND:20250930T084000Z
SUMMARY:Менеджмент
LOCATION:3 к. 215
END:VEVENT
BEGIN:VEVENT
UID:3jj7@192.168.245.71:3006
SEQUENCE:0
DTSTAMP:20260424T202333Z
DTSTART:20250930T090000Z
DTEND:20250930T104000Z
SUMMARY:Иностранный язык: деловая коммуникация
LOCATION:16 к. 411
END:VEVENT
BEGIN:VEVENT
UID:cj1p@192.168.245.71:3006
SEQUENCE:0
DTSTAMP:20260424T202333Z
DTSTART:20250930T110000Z
DTEND:20250930T124000Z
SUMMARY:Элективная физическая культура и спорт
LOCATION:СК Спортивный зал
END:VEVENT
BEGIN:VEVENT
UID:fwnu@192.168.245.71:3006
SEQUENCE:0
DTSTAMP:20260424T202333Z
DTSTART:20250930T130000Z
DTEND:20250930T144000Z
SUMMARY:История России
LOCATION:ГЗ 235
END:VEVENT
BEGIN:VEVENT
UID:a0i2@192.168.245.71:3006
SEQUENCE:0
DTSTAMP:20260424T202333Z
DTSTART:20251001T090000Z
DTEND:20251001T104000Z
SUMMARY:Статистика
LOCATION:50 уч.к 1204
END:VEVENT
BEGIN:VEVENT
UID:swyu@192.168.245.71:3006
SEQUENCE:0
DTSTAMP:20260424T202333Z
DTSTART:20251001T110000Z
DTEND:20251001T124000Z
SUMMARY:История России
LOCATION:50 уч.к 1427
END:VEVENT
BEGIN:VEVENT
UID:33vj@192.168.245.71:3006
SEQUENCE:0
DTSTAMP:20260424T202333Z
DTSTART:20251002T110000Z
DTEND:20251002T124000Z
SUMMARY:Управление качеством
LOCATION:50 уч.к 1106
END:VEVENT
BEGIN:VEVENT
UID:j3ik@192.168.245.71:3006
SEQUENCE:0
DTSTAMP:20260424T202333Z
DTSTART:20251002T130000Z
DTEND:20251002T144000Z
SUMMARY:Бухгалтерский учет
LOCATION:50 уч.к 1422
END:VEVENT
BEGIN:VEVENT
UID:m3wg@192.168.245.71:3006
SEQUENCE:0
DTSTAMP:20260424T202333Z
DTSTART:20251003T110000Z
DTEND:20251003T124000Z
SUMMARY:Элективная физическая культура и спорт
LOCATION:СК Спортивный зал
END:VEVENT
BEGIN:VEVENT
UID:yz2m@192.168.245.71:3006
SEQUENCE:0
DTSTAMP:20260424T202333Z
DTSTART:20251003T130000Z
DTEND:20251003T144000Z
SUMMARY:Статистика
LOCATION:ГЗ 235
END:VEVENT
END:VCALENDAR