BEGIN:VCALENDAR
VERSION:2.0
PRODID:-//spbstu.ru//ical//RU
NAME:Расписание группы 3733802/40004
X-WR-CALNAME:Расписание группы 3733802/40004
TIMEZONE-ID:Europe/Moscow
X-WR-TIMEZONE:Europe/Moscow
BEGIN:VEVENT
UID:vhyy@192.168.245.71:3006
SEQUENCE:0
DTSTAMP:20260421T094044Z
DTSTART:20260406T070000Z
DTEND:20260406T084000Z
SUMMARY:Финансы и кредит
LOCATION:ГЗ 235
END:VEVENT
BEGIN:VEVENT
UID:euur@192.168.245.71:3006
SEQUENCE:0
DTSTAMP:20260421T094044Z
DTSTART:20260406T090000Z
DTEND:20260406T104000Z
SUMMARY:Управленческий учет
LOCATION:50 уч.к 1111
END:VEVENT
BEGIN:VEVENT
UID:basm@192.168.245.71:3006
SEQUENCE:0
DTSTAMP:20260421T094044Z
DTSTART:20260407T070000Z
DTEND:20260407T084000Z
SUMMARY:Маркетинг
LOCATION:50 уч.к 1341
END:VEVENT
BEGIN:VEVENT
UID:is58@192.168.245.71:3006
SEQUENCE:0
DTSTAMP:20260421T094044Z
DTSTART:20260407T090000Z
DTEND:20260407T104000Z
SUMMARY:Производственный менеджмент
LOCATION:50 уч.к 1338
END:VEVENT
BEGIN:VEVENT
UID:cqlx@192.168.245.71:3006
SEQUENCE:0
DTSTAMP:20260421T094044Z
DTSTART:20260407T110000Z
DTEND:20260407T124000Z
SUMMARY:Элективная  физическая культура и спорт
LOCATION:СК Спортивный зал
END:VEVENT
BEGIN:VEVENT
UID:2ji6@192.168.245.71:3006
SEQUENCE:0
DTSTAMP:20260421T094044Z
DTSTART:20260408T050000Z
DTEND:20260408T064000Z
SUMMARY:Производственный менеджмент
LOCATION:50 уч.к 1239
END:VEVENT
BEGIN:VEVENT
UID:7srb@192.168.245.71:3006
SEQUENCE:0
DTSTAMP:20260421T094044Z
DTSTART:20260408T070000Z
DTEND:20260408T084000Z
SUMMARY:Управленческий учет
LOCATION:50 уч.к 1325
END:VEVENT
BEGIN:VEVENT
UID:hckt@192.168.245.71:3006
SEQUENCE:0
DTSTAMP:20260421T094044Z
DTSTART:20260408T090000Z
DTEND:20260408T104000Z
SUMMARY:Маркетинг
LOCATION:50 уч.к 1323
END:VEVENT
BEGIN:VEVENT
UID:5jr1@192.168.245.71:3006
SEQUENCE:0
DTSTAMP:20260421T094044Z
DTSTART:20260410T070000Z
DTEND:20260410T084000Z
SUMMARY:Иностранный язык. Профессионально-ориентированный курс
LOCATION:16 к. 406
END:VEVENT
BEGIN:VEVENT
UID:j87h@192.168.245.71:3006
SEQUENCE:0
DTSTAMP:20260421T094044Z
DTSTART:20260410T090000Z
DTEND:20260410T104000Z
SUMMARY:Иностранный язык. Профессионально-ориентированный курс
LOCATION:16 к. 406
END:VEVENT
BEGIN:VEVENT
UID:pppj@192.168.245.71:3006
SEQUENCE:0
DTSTAMP:20260421T094044Z
DTSTART:20260410T110000Z
DTEND:20260410T124000Z
SUMMARY:Элективная  физическая культура и спорт
LOCATION:СК Спортивный зал
END:VEVENT
END:VCALENDAR