BEGIN:VCALENDAR
VERSION:2.0
PRODID:-//spbstu.ru//ical//RU
NAME:Расписание группы 3733802/40006
X-WR-CALNAME:Расписание группы 3733802/40006
TIMEZONE-ID:Europe/Moscow
X-WR-TIMEZONE:Europe/Moscow
BEGIN:VEVENT
UID:l2by@192.168.245.71:3006
SEQUENCE:0
DTSTAMP:20260421T173459Z
DTSTART:20260608T100000Z
DTEND:20260608T124000Z
SUMMARY:Маркетинг
LOCATION:50 уч.к 1219
END:VEVENT
BEGIN:VEVENT
UID:b1mo@192.168.245.71:3006
SEQUENCE:0
DTSTAMP:20260421T173459Z
DTSTART:20260609T130000Z
DTEND:20260609T144000Z
SUMMARY:Управленческий учет
LOCATION:DL Дистанционно
END:VEVENT
BEGIN:VEVENT
UID:h2rm@192.168.245.71:3006
SEQUENCE:0
DTSTAMP:20260421T173459Z
DTSTART:20260611T100000Z
DTEND:20260611T124000Z
SUMMARY:Управленческий учет
LOCATION:50 уч.к 1205
END:VEVENT
BEGIN:VEVENT
UID:vrx5@192.168.245.71:3006
SEQUENCE:0
DTSTAMP:20260421T173459Z
DTSTART:20260611T150000Z
DTEND:20260611T164000Z
SUMMARY:Финансы и кредит
LOCATION:DL Дистанционно
END:VEVENT
END:VCALENDAR