BEGIN:VCALENDAR
VERSION:2.0
PRODID:-//spbstu.ru//ical//RU
NAME:Расписание группы 3733802/40007
X-WR-CALNAME:Расписание группы 3733802/40007
TIMEZONE-ID:Europe/Moscow
X-WR-TIMEZONE:Europe/Moscow
BEGIN:VEVENT
UID:vw4b@192.168.245.71:3006
SEQUENCE:0
DTSTAMP:20260423T165017Z
DTSTART:20260112T070000Z
DTEND:20260112T084000Z
SUMMARY:Бухгалтерский учет
LOCATION:DL Дистанционно
END:VEVENT
BEGIN:VEVENT
UID:588t@192.168.245.71:3006
SEQUENCE:0
DTSTAMP:20260423T165017Z
DTSTART:20260115T070000Z
DTEND:20260115T104000Z
SUMMARY:Бухгалтерский учет
LOCATION:50 уч.к 1217
END:VEVENT
BEGIN:VEVENT
UID:dd5q@192.168.245.71:3006
SEQUENCE:0
DTSTAMP:20260423T165017Z
DTSTART:20260117T070000Z
DTEND:20260117T084000Z
SUMMARY:Статистика
LOCATION:DL Дистанционно
END:VEVENT
END:VCALENDAR