BEGIN:VCALENDAR
VERSION:2.0
PRODID:-//spbstu.ru//ical//RU
NAME:Расписание группы 3733802/40007
X-WR-CALNAME:Расписание группы 3733802/40007
TIMEZONE-ID:Europe/Moscow
X-WR-TIMEZONE:Europe/Moscow
BEGIN:VEVENT
UID:0ush@192.168.245.71:3006
SEQUENCE:0
DTSTAMP:20260423T072608Z
DTSTART:20260127T100000Z
DTEND:20260127T124000Z
SUMMARY:Управление качеством
LOCATION:50 уч.к 1106
END:VEVENT
END:VCALENDAR