BEGIN:VCALENDAR
VERSION:2.0
PRODID:-//spbstu.ru//ical//RU
NAME:Расписание группы 3733802/40007
X-WR-CALNAME:Расписание группы 3733802/40007
TIMEZONE-ID:Europe/Moscow
X-WR-TIMEZONE:Europe/Moscow
BEGIN:VEVENT
UID:mpfe@192.168.245.71:3006
SEQUENCE:0
DTSTAMP:20260421T231045Z
DTSTART:20260609T070000Z
DTEND:20260609T094000Z
SUMMARY:Маркетинг
LOCATION:50 уч.к 1219
END:VEVENT
BEGIN:VEVENT
UID:g2ai@192.168.245.71:3006
SEQUENCE:0
DTSTAMP:20260421T231045Z
DTSTART:20260611T150000Z
DTEND:20260611T164000Z
SUMMARY:Финансы и кредит
LOCATION:DL Дистанционно
END:VEVENT
END:VCALENDAR