BEGIN:VCALENDAR
VERSION:2.0
PRODID:-//spbstu.ru//ical//RU
NAME:Расписание группы 3733802/42601
X-WR-CALNAME:Расписание группы 3733802/42601
TIMEZONE-ID:Europe/Moscow
X-WR-TIMEZONE:Europe/Moscow
BEGIN:VEVENT
UID:dpaz@192.168.245.71:3006
SEQUENCE:0
DTSTAMP:20260423T041453Z
DTSTART:20260202T110000Z
DTEND:20260202T124000Z
SUMMARY:Статистика (на английском языке)
LOCATION:50 уч.к 1336
END:VEVENT
BEGIN:VEVENT
UID:gwcr@192.168.245.71:3006
SEQUENCE:0
DTSTAMP:20260423T041453Z
DTSTART:20260202T130000Z
DTEND:20260202T144000Z
SUMMARY:Маркетинг (на английском языке)
LOCATION:50 уч.к 1105
END:VEVENT
BEGIN:VEVENT
UID:kbcm@192.168.245.71:3006
SEQUENCE:0
DTSTAMP:20260423T041453Z
DTSTART:20260203T130000Z
DTEND:20260203T144000Z
SUMMARY:Русский язык
LOCATION:15 к. 420
END:VEVENT
BEGIN:VEVENT
UID:lelm@192.168.245.71:3006
SEQUENCE:0
DTSTAMP:20260423T041453Z
DTSTART:20260204T090000Z
DTEND:20260204T104000Z
SUMMARY:Управленческий учет (на английском языке)
LOCATION:50 уч.к 1243
END:VEVENT
BEGIN:VEVENT
UID:33yz@192.168.245.71:3006
SEQUENCE:0
DTSTAMP:20260423T041453Z
DTSTART:20260204T110000Z
DTEND:20260204T124000Z
SUMMARY:Безопасность жизнедеятельности (на английском языке)
LOCATION:50 уч.к 1338
END:VEVENT
BEGIN:VEVENT
UID:v6wp@192.168.245.71:3006
SEQUENCE:0
DTSTAMP:20260423T041453Z
DTSTART:20260204T130000Z
DTEND:20260204T144000Z
SUMMARY:Маркетинг (на английском языке)
LOCATION:50 уч.к 1421
END:VEVENT
BEGIN:VEVENT
UID:h8nx@192.168.245.71:3006
SEQUENCE:0
DTSTAMP:20260423T041453Z
DTSTART:20260205T070000Z
DTEND:20260205T084000Z
SUMMARY:Управление человеческими ресурсами  (на английском языке)
LOCATION:50 уч.к 1323
END:VEVENT
BEGIN:VEVENT
UID:4m56@192.168.245.71:3006
SEQUENCE:0
DTSTAMP:20260423T041453Z
DTSTART:20260205T090000Z
DTEND:20260205T104000Z
SUMMARY:Управление человеческими ресурсами  (на английском языке)
LOCATION:50 уч.к 1432
END:VEVENT
BEGIN:VEVENT
UID:j6ey@192.168.245.71:3006
SEQUENCE:0
DTSTAMP:20260423T041453Z
DTSTART:20260207T070000Z
DTEND:20260207T084000Z
SUMMARY:Второй иностранный язык: Испанский язык\, Английский
LOCATION:50 уч.к 1421
END:VEVENT
BEGIN:VEVENT
UID:c0yo@192.168.245.71:3006
SEQUENCE:0
DTSTAMP:20260423T041453Z
DTSTART:20260207T090000Z
DTEND:20260207T104000Z
SUMMARY:Иностранный язык. Профессионально-ориентированный курс
LOCATION:16 к. 406
END:VEVENT
BEGIN:VEVENT
UID:puhk@192.168.245.71:3006
SEQUENCE:0
DTSTAMP:20260423T041453Z
DTSTART:20260207T110000Z
DTEND:20260207T124000Z
SUMMARY:Иностранный язык. Профессионально-ориентированный курс
LOCATION:16 к. 406
END:VEVENT
END:VCALENDAR