BEGIN:VCALENDAR
VERSION:2.0
PRODID:-//spbstu.ru//ical//RU
NAME:Расписание группы 3733802/42601
X-WR-CALNAME:Расписание группы 3733802/42601
TIMEZONE-ID:Europe/Moscow
X-WR-TIMEZONE:Europe/Moscow
BEGIN:VEVENT
UID:gbp5@192.168.245.71:3006
SEQUENCE:0
DTSTAMP:20260421T082411Z
DTSTART:20260413T110000Z
DTEND:20260413T124000Z
SUMMARY:Статистика (на английском языке)
LOCATION:50 уч.к 1211
END:VEVENT
BEGIN:VEVENT
UID:4k32@192.168.245.71:3006
SEQUENCE:0
DTSTAMP:20260421T082411Z
DTSTART:20260413T130000Z
DTEND:20260413T144000Z
SUMMARY:Маркетинг (на английском языке)
LOCATION:50 уч.к 1105
END:VEVENT
BEGIN:VEVENT
UID:j07q@192.168.245.71:3006
SEQUENCE:0
DTSTAMP:20260421T082411Z
DTSTART:20260414T110000Z
DTEND:20260414T124000Z
SUMMARY:Элективная  физическая культура и спорт
LOCATION:СК Спортивный зал
END:VEVENT
BEGIN:VEVENT
UID:282a@192.168.245.71:3006
SEQUENCE:0
DTSTAMP:20260421T082411Z
DTSTART:20260414T130000Z
DTEND:20260414T144000Z
SUMMARY:Русский язык
LOCATION:15 к. 420
END:VEVENT
BEGIN:VEVENT
UID:tqpo@192.168.245.71:3006
SEQUENCE:0
DTSTAMP:20260421T082411Z
DTSTART:20260415T090000Z
DTEND:20260415T104000Z
SUMMARY:Управленческий учет (на английском языке)
LOCATION:50 уч.к 1423
END:VEVENT
BEGIN:VEVENT
UID:dkos@192.168.245.71:3006
SEQUENCE:0
DTSTAMP:20260421T082411Z
DTSTART:20260415T110000Z
DTEND:20260415T124000Z
SUMMARY:Безопасность жизнедеятельности (на английском языке)
LOCATION:50 уч.к 1338
END:VEVENT
BEGIN:VEVENT
UID:8vk0@192.168.245.71:3006
SEQUENCE:0
DTSTAMP:20260421T082411Z
DTSTART:20260415T130000Z
DTEND:20260415T144000Z
SUMMARY:Маркетинг (на английском языке)
LOCATION:50 уч.к 1421
END:VEVENT
BEGIN:VEVENT
UID:mb89@192.168.245.71:3006
SEQUENCE:0
DTSTAMP:20260421T082411Z
DTSTART:20260416T070000Z
DTEND:20260416T084000Z
SUMMARY:Управление человеческими ресурсами  (на английском языке)
LOCATION:50 уч.к 1323
END:VEVENT
BEGIN:VEVENT
UID:2236@192.168.245.71:3006
SEQUENCE:0
DTSTAMP:20260421T082411Z
DTSTART:20260416T090000Z
DTEND:20260416T104000Z
SUMMARY:Управление человеческими ресурсами  (на английском языке)
LOCATION:50 уч.к 1432
END:VEVENT
BEGIN:VEVENT
UID:nagw@192.168.245.71:3006
SEQUENCE:0
DTSTAMP:20260421T082411Z
DTSTART:20260417T110000Z
DTEND:20260417T124000Z
SUMMARY:Элективная  физическая культура и спорт
LOCATION:СК Спортивный зал
END:VEVENT
BEGIN:VEVENT
UID:v9ix@192.168.245.71:3006
SEQUENCE:0
DTSTAMP:20260421T082411Z
DTSTART:20260418T070000Z
DTEND:20260418T084000Z
SUMMARY:Второй иностранный язык: Испанский язык\, Английский
LOCATION:50 уч.к 1421
END:VEVENT
BEGIN:VEVENT
UID:fu6c@192.168.245.71:3006
SEQUENCE:0
DTSTAMP:20260421T082411Z
DTSTART:20260418T090000Z
DTEND:20260418T104000Z
SUMMARY:Иностранный язык. Профессионально-ориентированный курс
LOCATION:16 к. 406
END:VEVENT
BEGIN:VEVENT
UID:ahqj@192.168.245.71:3006
SEQUENCE:0
DTSTAMP:20260421T082411Z
DTSTART:20260418T110000Z
DTEND:20260418T124000Z
SUMMARY:Иностранный язык. Профессионально-ориентированный курс
LOCATION:16 к. 406
END:VEVENT
END:VCALENDAR