BEGIN:VCALENDAR
VERSION:2.0
PRODID:-//spbstu.ru//ical//RU
NAME:Расписание группы 3733802/42601
X-WR-CALNAME:Расписание группы 3733802/42601
TIMEZONE-ID:Europe/Moscow
X-WR-TIMEZONE:Europe/Moscow
BEGIN:VEVENT
UID:y18c@192.168.245.71:3006
SEQUENCE:0
DTSTAMP:20260421T063737Z
DTSTART:20260420T090000Z
DTEND:20260420T104000Z
SUMMARY:Управленческий учет (на английском языке)
LOCATION:50 уч.к 1242
END:VEVENT
BEGIN:VEVENT
UID:cv5k@192.168.245.71:3006
SEQUENCE:0
DTSTAMP:20260421T063737Z
DTSTART:20260420T110000Z
DTEND:20260420T124000Z
SUMMARY:Статистика (на английском языке)
LOCATION:50 уч.к 1336
END:VEVENT
BEGIN:VEVENT
UID:bgfc@192.168.245.71:3006
SEQUENCE:0
DTSTAMP:20260421T063737Z
DTSTART:20260420T150000Z
DTEND:20260420T164000Z
SUMMARY:Статистика (на английском языке)
LOCATION:50 уч.к 1338
END:VEVENT
BEGIN:VEVENT
UID:yyji@192.168.245.71:3006
SEQUENCE:0
DTSTAMP:20260421T063737Z
DTSTART:20260421T070000Z
DTEND:20260421T084000Z
SUMMARY:Основы проектной деятельности (на английском языке)
LOCATION:50 уч.к 1245
END:VEVENT
BEGIN:VEVENT
UID:ptwv@192.168.245.71:3006
SEQUENCE:0
DTSTAMP:20260421T063737Z
DTSTART:20260421T090000Z
DTEND:20260421T104000Z
SUMMARY:Основы проектной деятельности (на английском языке)
LOCATION:50 уч.к 1245
END:VEVENT
BEGIN:VEVENT
UID:eklj@192.168.245.71:3006
SEQUENCE:0
DTSTAMP:20260421T063737Z
DTSTART:20260421T110000Z
DTEND:20260421T124000Z
SUMMARY:Элективная  физическая культура и спорт
LOCATION:СК Спортивный зал
END:VEVENT
BEGIN:VEVENT
UID:k69r@192.168.245.71:3006
SEQUENCE:0
DTSTAMP:20260421T063737Z
DTSTART:20260421T130000Z
DTEND:20260421T144000Z
SUMMARY:Русский язык
LOCATION:15 к. 420
END:VEVENT
BEGIN:VEVENT
UID:746i@192.168.245.71:3006
SEQUENCE:0
DTSTAMP:20260421T063737Z
DTSTART:20260422T070000Z
DTEND:20260422T084000Z
SUMMARY:Безопасность жизнедеятельности (на английском языке)
LOCATION:50 уч.к 1245
END:VEVENT
BEGIN:VEVENT
UID:1gez@192.168.245.71:3006
SEQUENCE:0
DTSTAMP:20260421T063737Z
DTSTART:20260422T090000Z
DTEND:20260422T104000Z
SUMMARY:Управленческий учет (на английском языке)
LOCATION:50 уч.к 1423
END:VEVENT
BEGIN:VEVENT
UID:xs33@192.168.245.71:3006
SEQUENCE:0
DTSTAMP:20260421T063737Z
DTSTART:20260422T110000Z
DTEND:20260422T124000Z
SUMMARY:Статистика (на английском языке)
LOCATION:50 уч.к 1338
END:VEVENT
BEGIN:VEVENT
UID:06sx@192.168.245.71:3006
SEQUENCE:0
DTSTAMP:20260421T063737Z
DTSTART:20260423T070000Z
DTEND:20260423T084000Z
SUMMARY:Производственный менеджмент (на английском языке)
LOCATION:50 уч.к 1249
END:VEVENT
BEGIN:VEVENT
UID:6dfq@192.168.245.71:3006
SEQUENCE:0
DTSTAMP:20260421T063737Z
DTSTART:20260423T090000Z
DTEND:20260423T104000Z
SUMMARY:Производственный менеджмент (на английском языке)
LOCATION:50 уч.к 1432
END:VEVENT
BEGIN:VEVENT
UID:wyw1@192.168.245.71:3006
SEQUENCE:0
DTSTAMP:20260421T063737Z
DTSTART:20260424T110000Z
DTEND:20260424T124000Z
SUMMARY:Элективная  физическая культура и спорт
LOCATION:СК Спортивный зал
END:VEVENT
BEGIN:VEVENT
UID:hz52@192.168.245.71:3006
SEQUENCE:0
DTSTAMP:20260421T063737Z
DTSTART:20260425T070000Z
DTEND:20260425T084000Z
SUMMARY:Второй иностранный язык: Испанский язык\, Английский
LOCATION:50 уч.к 1421
END:VEVENT
BEGIN:VEVENT
UID:hj9s@192.168.245.71:3006
SEQUENCE:0
DTSTAMP:20260421T063737Z
DTSTART:20260425T090000Z
DTEND:20260425T104000Z
SUMMARY:Иностранный язык. Профессионально-ориентированный курс
LOCATION:16 к. 406
END:VEVENT
BEGIN:VEVENT
UID:r5ig@192.168.245.71:3006
SEQUENCE:0
DTSTAMP:20260421T063737Z
DTSTART:20260425T110000Z
DTEND:20260425T124000Z
SUMMARY:Иностранный язык. Профессионально-ориентированный курс
LOCATION:16 к. 406
END:VEVENT
END:VCALENDAR