BEGIN:VCALENDAR
VERSION:2.0
PRODID:-//spbstu.ru//ical//RU
NAME:Расписание группы 3733802/42601
X-WR-CALNAME:Расписание группы 3733802/42601
TIMEZONE-ID:Europe/Moscow
X-WR-TIMEZONE:Europe/Moscow
BEGIN:VEVENT
UID:329i@192.168.245.71:3006
SEQUENCE:0
DTSTAMP:20260422T075927Z
DTSTART:20260622T110000Z
DTEND:20260622T143000Z
SUMMARY:Производственный менеджмент (на английском языке)
LOCATION:50 уч.к 1116
END:VEVENT
BEGIN:VEVENT
UID:k8xe@192.168.245.71:3006
SEQUENCE:0
DTSTAMP:20260422T075927Z
DTSTART:20260623T070000Z
DTEND:20260623T084000Z
SUMMARY:Маркетинг (на английском языке)
LOCATION:50 уч.к 1243
END:VEVENT
BEGIN:VEVENT
UID:gybk@192.168.245.71:3006
SEQUENCE:0
DTSTAMP:20260422T075927Z
DTSTART:20260625T110000Z
DTEND:20260625T143000Z
SUMMARY:Маркетинг (на английском языке)
LOCATION:50 уч.к 1116
END:VEVENT
END:VCALENDAR