BEGIN:VCALENDAR
VERSION:2.0
PRODID:-//spbstu.ru//ical//RU
NAME:Расписание группы 3733803/40001
X-WR-CALNAME:Расписание группы 3733803/40001
TIMEZONE-ID:Europe/Moscow
X-WR-TIMEZONE:Europe/Moscow
BEGIN:VEVENT
UID:snmf@192.168.245.71:3006
SEQUENCE:0
DTSTAMP:20260422T000246Z
DTSTART:20260525T070000Z
DTEND:20260525T094000Z
SUMMARY:Основы проектной деятельности
LOCATION:50 уч.к 1234
END:VEVENT
BEGIN:VEVENT
UID:n683@192.168.245.71:3006
SEQUENCE:0
DTSTAMP:20260422T000246Z
DTSTART:20260526T110000Z
DTEND:20260526T124000Z
SUMMARY:Основы гражданского права
LOCATION:50 уч.к 1251
END:VEVENT
BEGIN:VEVENT
UID:emdw@192.168.245.71:3006
SEQUENCE:0
DTSTAMP:20260422T000246Z
DTSTART:20260527T070000Z
DTEND:20260527T084000Z
SUMMARY:Иностранный язык. Профессионально-ориентированный курс
LOCATION:16 к. 401
END:VEVENT
BEGIN:VEVENT
UID:wuyw@192.168.245.71:3006
SEQUENCE:0
DTSTAMP:20260422T000246Z
DTSTART:20260528T070000Z
DTEND:20260528T094000Z
SUMMARY:Психология личности
LOCATION:50 уч.к 1251
END:VEVENT
BEGIN:VEVENT
UID:cthy@192.168.245.71:3006
SEQUENCE:0
DTSTAMP:20260422T000246Z
DTSTART:20260529T070000Z
DTEND:20260529T084000Z
SUMMARY:Безопасность жизнедеятельности
LOCATION:50 уч.к 1251
END:VEVENT
BEGIN:VEVENT
UID:604b@192.168.245.71:3006
SEQUENCE:0
DTSTAMP:20260422T000246Z
DTSTART:20260529T110000Z
DTEND:20260529T130000Z
SUMMARY:Элективная  физическая культура и спорт
LOCATION:СК Спортивный зал
END:VEVENT
END:VCALENDAR