BEGIN:VCALENDAR
VERSION:2.0
PRODID:-//spbstu.ru//ical//RU
NAME:Расписание группы 3733803/40002
X-WR-CALNAME:Расписание группы 3733803/40002
TIMEZONE-ID:Europe/Moscow
X-WR-TIMEZONE:Europe/Moscow
BEGIN:VEVENT
UID:ff15@192.168.245.71:3006
SEQUENCE:0
DTSTAMP:20260421T153620Z
DTSTART:20260504T110000Z
DTEND:20260504T124000Z
SUMMARY:Маркетинг
LOCATION:50 уч.к 1116
END:VEVENT
BEGIN:VEVENT
UID:hh39@192.168.245.71:3006
SEQUENCE:0
DTSTAMP:20260421T153620Z
DTSTART:20260504T130000Z
DTEND:20260504T144000Z
SUMMARY:Маркетинг
LOCATION:ГЗ 235
END:VEVENT
BEGIN:VEVENT
UID:s9by@192.168.245.71:3006
SEQUENCE:0
DTSTAMP:20260421T153620Z
DTSTART:20260505T090000Z
DTEND:20260505T104000Z
SUMMARY:Экономика и социология труда
LOCATION:50 уч.к 1115
END:VEVENT
BEGIN:VEVENT
UID:y6p5@192.168.245.71:3006
SEQUENCE:0
DTSTAMP:20260421T153620Z
DTSTART:20260505T110000Z
DTEND:20260505T124000Z
SUMMARY:Элективная  физическая культура и спорт
LOCATION:СК Спортивный зал
END:VEVENT
BEGIN:VEVENT
UID:9hqf@192.168.245.71:3006
SEQUENCE:0
DTSTAMP:20260421T153620Z
DTSTART:20260506T070000Z
DTEND:20260506T084000Z
SUMMARY:Основы гражданского права
LOCATION:50 уч.к 1432
END:VEVENT
BEGIN:VEVENT
UID:c9vg@192.168.245.71:3006
SEQUENCE:0
DTSTAMP:20260421T153620Z
DTSTART:20260506T090000Z
DTEND:20260506T104000Z
SUMMARY:Иностранный язык. Профессионально-ориентированный курс
LOCATION:16 к. 401
END:VEVENT
BEGIN:VEVENT
UID:43cc@192.168.245.71:3006
SEQUENCE:0
DTSTAMP:20260421T153620Z
DTSTART:20260506T110000Z
DTEND:20260506T124000Z
SUMMARY:Иностранный язык. Профессионально-ориентированный курс
LOCATION:16 к. 401
END:VEVENT
BEGIN:VEVENT
UID:bz9p@192.168.245.71:3006
SEQUENCE:0
DTSTAMP:20260421T153620Z
DTSTART:20260507T070000Z
DTEND:20260507T084000Z
SUMMARY:Организация\, нормирование и оплата труда
LOCATION:50 уч.к 1326
END:VEVENT
BEGIN:VEVENT
UID:megl@192.168.245.71:3006
SEQUENCE:0
DTSTAMP:20260421T153620Z
DTSTART:20260507T090000Z
DTEND:20260507T104000Z
SUMMARY:Основы трудового права
LOCATION:50 уч.к 1326
END:VEVENT
BEGIN:VEVENT
UID:t3ko@192.168.245.71:3006
SEQUENCE:0
DTSTAMP:20260421T153620Z
DTSTART:20260507T110000Z
DTEND:20260507T124000Z
SUMMARY:Основы трудового права
LOCATION:50 уч.к 1326
END:VEVENT
BEGIN:VEVENT
UID:b515@192.168.245.71:3006
SEQUENCE:0
DTSTAMP:20260421T153620Z
DTSTART:20260508T070000Z
DTEND:20260508T084000Z
SUMMARY:Психология личности
LOCATION:50 уч.к 1248
END:VEVENT
BEGIN:VEVENT
UID:hsla@192.168.245.71:3006
SEQUENCE:0
DTSTAMP:20260421T153620Z
DTSTART:20260508T090000Z
DTEND:20260508T104000Z
SUMMARY:Экономика и социология труда
LOCATION:50 уч.к 1217
END:VEVENT
BEGIN:VEVENT
UID:0zfq@192.168.245.71:3006
SEQUENCE:0
DTSTAMP:20260421T153620Z
DTSTART:20260508T110000Z
DTEND:20260508T124000Z
SUMMARY:Элективная  физическая культура и спорт
LOCATION:СК Спортивный зал
END:VEVENT
END:VCALENDAR