BEGIN:VCALENDAR
VERSION:2.0
PRODID:-//spbstu.ru//ical//RU
NAME:Расписание группы 3733804/40002
X-WR-CALNAME:Расписание группы 3733804/40002
TIMEZONE-ID:Europe/Moscow
X-WR-TIMEZONE:Europe/Moscow
BEGIN:VEVENT
UID:tlet@192.168.245.71:3006
SEQUENCE:0
DTSTAMP:20260421T180756Z
DTSTART:20260310T070000Z
DTEND:20260310T084000Z
SUMMARY:Конституционное и административное право
LOCATION:50 уч.к 1251
END:VEVENT
BEGIN:VEVENT
UID:pyou@192.168.245.71:3006
SEQUENCE:0
DTSTAMP:20260421T180756Z
DTSTART:20260310T090000Z
DTEND:20260310T104000Z
SUMMARY:Безопасность жизнедеятельности
LOCATION:50 уч.к 1325
END:VEVENT
BEGIN:VEVENT
UID:u6tu@192.168.245.71:3006
SEQUENCE:0
DTSTAMP:20260421T180756Z
DTSTART:20260310T110000Z
DTEND:20260310T124000Z
SUMMARY:Элективная  физическая культура и спорт
LOCATION:СК Спортивный зал
END:VEVENT
BEGIN:VEVENT
UID:svvt@192.168.245.71:3006
SEQUENCE:0
DTSTAMP:20260421T180756Z
DTSTART:20260310T130000Z
DTEND:20260310T144000Z
SUMMARY:Безопасность жизнедеятельности
LOCATION:ГЗ 235
END:VEVENT
BEGIN:VEVENT
UID:wntz@192.168.245.71:3006
SEQUENCE:0
DTSTAMP:20260421T180756Z
DTSTART:20260311T070000Z
DTEND:20260311T084000Z
SUMMARY:Основы гражданского права
LOCATION:50 уч.к 1432
END:VEVENT
BEGIN:VEVENT
UID:t7a0@192.168.245.71:3006
SEQUENCE:0
DTSTAMP:20260421T180756Z
DTSTART:20260311T090000Z
DTEND:20260311T104000Z
SUMMARY:Иностранный язык. Профессионально-ориентированный курс
LOCATION:16 к. 402
END:VEVENT
BEGIN:VEVENT
UID:j1jk@192.168.245.71:3006
SEQUENCE:0
DTSTAMP:20260421T180756Z
DTSTART:20260311T110000Z
DTEND:20260311T124000Z
SUMMARY:Иностранный язык. Профессионально-ориентированный курс
LOCATION:16 к. 402
END:VEVENT
BEGIN:VEVENT
UID:xm9e@192.168.245.71:3006
SEQUENCE:0
DTSTAMP:20260421T180756Z
DTSTART:20260311T130000Z
DTEND:20260311T144000Z
SUMMARY:Государственное регулирование экономики
LOCATION:16 к. 401
END:VEVENT
BEGIN:VEVENT
UID:60rr@192.168.245.71:3006
SEQUENCE:0
DTSTAMP:20260421T180756Z
DTSTART:20260312T070000Z
DTEND:20260312T084000Z
SUMMARY:Моделирование процессов государственного управления социально-экон
 омическим развитием
LOCATION:50 уч.к 1107
END:VEVENT
BEGIN:VEVENT
UID:g5fo@192.168.245.71:3006
SEQUENCE:0
DTSTAMP:20260421T180756Z
DTSTART:20260312T090000Z
DTEND:20260312T104000Z
SUMMARY:Государственное регулирование экономики
LOCATION:50 уч.к 1328
END:VEVENT
BEGIN:VEVENT
UID:qvrh@192.168.245.71:3006
SEQUENCE:0
DTSTAMP:20260421T180756Z
DTSTART:20260312T110000Z
DTEND:20260312T124000Z
SUMMARY:Государственное регулирование экономики
LOCATION:50 уч.к 1324
END:VEVENT
BEGIN:VEVENT
UID:xemy@192.168.245.71:3006
SEQUENCE:0
DTSTAMP:20260421T180756Z
DTSTART:20260313T050000Z
DTEND:20260313T064000Z
SUMMARY:Статистика
LOCATION:50 уч.к 1336
END:VEVENT
BEGIN:VEVENT
UID:lo59@192.168.245.71:3006
SEQUENCE:0
DTSTAMP:20260421T180756Z
DTSTART:20260313T070000Z
DTEND:20260313T084000Z
SUMMARY:Моделирование процессов государственного управления социально-экон
 омическим развитием
LOCATION:50 уч.к 1319
END:VEVENT
BEGIN:VEVENT
UID:uy76@192.168.245.71:3006
SEQUENCE:0
DTSTAMP:20260421T180756Z
DTSTART:20260313T090000Z
DTEND:20260313T104000Z
SUMMARY:Психология личности
LOCATION:50 уч.к 1248
END:VEVENT
BEGIN:VEVENT
UID:nt3g@192.168.245.71:3006
SEQUENCE:0
DTSTAMP:20260421T180756Z
DTSTART:20260313T110000Z
DTEND:20260313T124000Z
SUMMARY:Элективная  физическая культура и спорт
LOCATION:СК Спортивный зал
END:VEVENT
BEGIN:VEVENT
UID:qsmd@192.168.245.71:3006
SEQUENCE:0
DTSTAMP:20260421T180756Z
DTSTART:20260314T090000Z
DTEND:20260314T104000Z
SUMMARY:Конституционное и административное право
LOCATION:50 уч.к 1225
END:VEVENT
END:VCALENDAR