BEGIN:VCALENDAR
VERSION:2.0
PRODID:-//spbstu.ru//ical//RU
NAME:Расписание группы 3733804/40002
X-WR-CALNAME:Расписание группы 3733804/40002
TIMEZONE-ID:Europe/Moscow
X-WR-TIMEZONE:Europe/Moscow
BEGIN:VEVENT
UID:av4v@192.168.245.71:3006
SEQUENCE:0
DTSTAMP:20260421T110820Z
DTSTART:20260518T090000Z
DTEND:20260518T104000Z
SUMMARY:Основы государственного и муниципального управления
LOCATION:50 уч.к 1323
END:VEVENT
BEGIN:VEVENT
UID:qt3y@192.168.245.71:3006
SEQUENCE:0
DTSTAMP:20260421T110820Z
DTSTART:20260518T110000Z
DTEND:20260518T124000Z
SUMMARY:Основы государственного и муниципального управления
LOCATION:50 уч.к 1323
END:VEVENT
BEGIN:VEVENT
UID:ivwf@192.168.245.71:3006
SEQUENCE:0
DTSTAMP:20260421T110820Z
DTSTART:20260520T050000Z
DTEND:20260520T064000Z
SUMMARY:Основы гражданского права
LOCATION:50 уч.к 1432
END:VEVENT
BEGIN:VEVENT
UID:g7uq@192.168.245.71:3006
SEQUENCE:0
DTSTAMP:20260421T110820Z
DTSTART:20260520T070000Z
DTEND:20260520T084000Z
SUMMARY:Основы гражданского права
LOCATION:50 уч.к 1432
END:VEVENT
BEGIN:VEVENT
UID:53ne@192.168.245.71:3006
SEQUENCE:0
DTSTAMP:20260421T110820Z
DTSTART:20260520T090000Z
DTEND:20260520T104000Z
SUMMARY:Иностранный язык. Профессионально-ориентированный курс
LOCATION:16 к. 402
END:VEVENT
BEGIN:VEVENT
UID:a7ye@192.168.245.71:3006
SEQUENCE:0
DTSTAMP:20260421T110820Z
DTSTART:20260520T110000Z
DTEND:20260520T124000Z
SUMMARY:Иностранный язык. Профессионально-ориентированный курс
LOCATION:16 к. 402
END:VEVENT
BEGIN:VEVENT
UID:u3lo@192.168.245.71:3006
SEQUENCE:0
DTSTAMP:20260421T110820Z
DTSTART:20260522T050000Z
DTEND:20260522T064000Z
SUMMARY:Статистика
LOCATION:50 уч.к 1336
END:VEVENT
BEGIN:VEVENT
UID:8cv7@192.168.245.71:3006
SEQUENCE:0
DTSTAMP:20260421T110820Z
DTSTART:20260522T090000Z
DTEND:20260522T104000Z
SUMMARY:Психология личности
LOCATION:50 уч.к 1248
END:VEVENT
BEGIN:VEVENT
UID:9byl@192.168.245.71:3006
SEQUENCE:0
DTSTAMP:20260421T110820Z
DTSTART:20260523T090000Z
DTEND:20260523T104000Z
SUMMARY:Конституционное и административное право
LOCATION:50 уч.к 1225
END:VEVENT
END:VCALENDAR