BEGIN:VCALENDAR
VERSION:2.0
PRODID:-//spbstu.ru//ical//RU
NAME:Расписание группы 3733805/40001
X-WR-CALNAME:Расписание группы 3733805/40001
TIMEZONE-ID:Europe/Moscow
X-WR-TIMEZONE:Europe/Moscow
BEGIN:VEVENT
UID:wzym@192.168.245.71:3006
SEQUENCE:0
DTSTAMP:20260424T184023Z
DTSTART:20251028T110000Z
DTEND:20251028T124000Z
SUMMARY:Элективная физическая культура и спорт
LOCATION:СК Спортивный зал
END:VEVENT
BEGIN:VEVENT
UID:rizy@192.168.245.71:3006
SEQUENCE:0
DTSTAMP:20260424T184023Z
DTSTART:20251028T130000Z
DTEND:20251028T144000Z
SUMMARY:Иностранный язык: деловая коммуникация
LOCATION:16 к. 401
END:VEVENT
BEGIN:VEVENT
UID:ocpy@192.168.245.71:3006
SEQUENCE:0
DTSTAMP:20260424T184023Z
DTSTART:20251028T150000Z
DTEND:20251028T171500Z
SUMMARY:Русский язык как иностранный. Язык специальности
LOCATION:15 к. 430
END:VEVENT
BEGIN:VEVENT
UID:b74z@192.168.245.71:3006
SEQUENCE:0
DTSTAMP:20260424T184023Z
DTSTART:20251029T070000Z
DTEND:20251029T084000Z
SUMMARY:Цифровая аналитика
LOCATION:50 уч.к 1336
END:VEVENT
BEGIN:VEVENT
UID:0gnm@192.168.245.71:3006
SEQUENCE:0
DTSTAMP:20260424T184023Z
DTSTART:20251029T090000Z
DTEND:20251029T104000Z
SUMMARY:Маркетинг
LOCATION:50 уч.к 1214
END:VEVENT
BEGIN:VEVENT
UID:utxk@192.168.245.71:3006
SEQUENCE:0
DTSTAMP:20260424T184023Z
DTSTART:20251029T150000Z
DTEND:20251029T164000Z
SUMMARY:Русский язык как иностранный: деловая коммуникация
LOCATION:50 уч.к 1250
END:VEVENT
BEGIN:VEVENT
UID:9rdx@192.168.245.71:3006
SEQUENCE:0
DTSTAMP:20260424T184023Z
DTSTART:20251030T050000Z
DTEND:20251030T064000Z
SUMMARY:Бухгалтерский учет
LOCATION:50 уч.к 1233
END:VEVENT
BEGIN:VEVENT
UID:dprz@192.168.245.71:3006
SEQUENCE:0
DTSTAMP:20260424T184023Z
DTSTART:20251030T070000Z
DTEND:20251030T084000Z
SUMMARY:История России
LOCATION:50 уч.к 1116
END:VEVENT
BEGIN:VEVENT
UID:10rh@192.168.245.71:3006
SEQUENCE:0
DTSTAMP:20260424T184023Z
DTSTART:20251030T110000Z
DTEND:20251030T124000Z
SUMMARY:Теория систем
LOCATION:ГЗ 237
END:VEVENT
BEGIN:VEVENT
UID:fty8@192.168.245.71:3006
SEQUENCE:0
DTSTAMP:20260424T184023Z
DTSTART:20251031T070000Z
DTEND:20251031T084000Z
SUMMARY:Бухгалтерский учет
LOCATION:ГЗ 235
END:VEVENT
BEGIN:VEVENT
UID:zn90@192.168.245.71:3006
SEQUENCE:0
DTSTAMP:20260424T184023Z
DTSTART:20251031T090000Z
DTEND:20251031T104000Z
SUMMARY:Менеджмент
LOCATION:ГЗ 329
END:VEVENT
BEGIN:VEVENT
UID:a4gy@192.168.245.71:3006
SEQUENCE:0
DTSTAMP:20260424T184023Z
DTSTART:20251031T110000Z
DTEND:20251031T124000Z
SUMMARY:Элективная физическая культура и спорт
LOCATION:СК Спортивный зал
END:VEVENT
BEGIN:VEVENT
UID:zzl8@192.168.245.71:3006
SEQUENCE:0
DTSTAMP:20260424T184023Z
DTSTART:20251031T130000Z
DTEND:20251031T144000Z
SUMMARY:Маркетинг
LOCATION:50 уч.к 1323
END:VEVENT
BEGIN:VEVENT
UID:814x@192.168.245.71:3006
SEQUENCE:0
DTSTAMP:20260424T184023Z
DTSTART:20251101T090000Z
DTEND:20251101T104000Z
SUMMARY:Теория вероятностей
LOCATION:ГЗ 244
END:VEVENT
BEGIN:VEVENT
UID:yn46@192.168.245.71:3006
SEQUENCE:0
DTSTAMP:20260424T184023Z
DTSTART:20251101T110000Z
DTEND:20251101T124000Z
SUMMARY:Теория вероятностей
LOCATION:ГЗ 235
END:VEVENT
END:VCALENDAR