BEGIN:VCALENDAR
VERSION:2.0
PRODID:-//spbstu.ru//ical//RU
NAME:Расписание группы 3733805/40001
X-WR-CALNAME:Расписание группы 3733805/40001
TIMEZONE-ID:Europe/Moscow
X-WR-TIMEZONE:Europe/Moscow
BEGIN:VEVENT
UID:u0jz@192.168.245.71:3006
SEQUENCE:0
DTSTAMP:20260421T221741Z
DTSTART:20260310T070000Z
DTEND:20260310T084000Z
SUMMARY:Моделирование бизнес-процессов
LOCATION:50 уч.к 1104
END:VEVENT
BEGIN:VEVENT
UID:c9bi@192.168.245.71:3006
SEQUENCE:0
DTSTAMP:20260421T221741Z
DTSTART:20260310T090000Z
DTEND:20260310T104000Z
SUMMARY:Финансы и кредит
LOCATION:50 уч.к 1249
END:VEVENT
BEGIN:VEVENT
UID:grdx@192.168.245.71:3006
SEQUENCE:0
DTSTAMP:20260421T221741Z
DTSTART:20260310T110000Z
DTEND:20260310T124000Z
SUMMARY:Элективная  физическая культура и спорт
LOCATION:СК Спортивный зал
END:VEVENT
BEGIN:VEVENT
UID:af7o@192.168.245.71:3006
SEQUENCE:0
DTSTAMP:20260421T221741Z
DTSTART:20260310T130000Z
DTEND:20260310T144000Z
SUMMARY:Безопасность жизнедеятельности
LOCATION:ГЗ 235
END:VEVENT
BEGIN:VEVENT
UID:9665@192.168.245.71:3006
SEQUENCE:0
DTSTAMP:20260421T221741Z
DTSTART:20260310T150000Z
DTEND:20260310T180000Z
SUMMARY:Русский язык как иностранный: Профессионально-ориентированный курс
LOCATION:50 уч.к 1428
END:VEVENT
BEGIN:VEVENT
UID:bnle@192.168.245.71:3006
SEQUENCE:0
DTSTAMP:20260421T221741Z
DTSTART:20260311T110000Z
DTEND:20260311T124000Z
SUMMARY:Финансы и кредит
LOCATION:ГЗ 235
END:VEVENT
BEGIN:VEVENT
UID:5ll0@192.168.245.71:3006
SEQUENCE:0
DTSTAMP:20260421T221741Z
DTSTART:20260311T130000Z
DTEND:20260311T144000Z
SUMMARY:Моделирование бизнес-процессов
LOCATION:ГЗ 257
END:VEVENT
BEGIN:VEVENT
UID:53s0@192.168.245.71:3006
SEQUENCE:0
DTSTAMP:20260421T221741Z
DTSTART:20260312T090000Z
DTEND:20260312T104000Z
SUMMARY:Иностранный язык. Профессионально-ориентированный курс
LOCATION:16 к. 406
END:VEVENT
BEGIN:VEVENT
UID:5iuw@192.168.245.71:3006
SEQUENCE:0
DTSTAMP:20260421T221741Z
DTSTART:20260312T110000Z
DTEND:20260312T124000Z
SUMMARY:Иностранный язык. Профессионально-ориентированный курс
LOCATION:16 к. 406
END:VEVENT
BEGIN:VEVENT
UID:m2xs@192.168.245.71:3006
SEQUENCE:0
DTSTAMP:20260421T221741Z
DTSTART:20260313T110000Z
DTEND:20260313T124000Z
SUMMARY:Элективная  физическая культура и спорт
LOCATION:СК Спортивный зал
END:VEVENT
BEGIN:VEVENT
UID:7ce8@192.168.245.71:3006
SEQUENCE:0
DTSTAMP:20260421T221741Z
DTSTART:20260314T070000Z
DTEND:20260314T084000Z
SUMMARY:Дискретная математика
LOCATION:50 уч.к 1323
END:VEVENT
BEGIN:VEVENT
UID:rm67@192.168.245.71:3006
SEQUENCE:0
DTSTAMP:20260421T221741Z
DTSTART:20260314T090000Z
DTEND:20260314T104000Z
SUMMARY:Статистика
LOCATION:50 уч.к 1103
END:VEVENT
BEGIN:VEVENT
UID:d9gn@192.168.245.71:3006
SEQUENCE:0
DTSTAMP:20260421T221741Z
DTSTART:20260314T110000Z
DTEND:20260314T124000Z
SUMMARY:Технологии программирования
LOCATION:50 уч.к 1104
END:VEVENT
BEGIN:VEVENT
UID:4xjj@192.168.245.71:3006
SEQUENCE:0
DTSTAMP:20260421T221741Z
DTSTART:20260314T130000Z
DTEND:20260314T144000Z
SUMMARY:Технологии программирования
LOCATION:50 уч.к 1341
END:VEVENT
END:VCALENDAR