BEGIN:VCALENDAR
VERSION:2.0
PRODID:-//spbstu.ru//ical//RU
NAME:Расписание группы 3733805/40002
X-WR-CALNAME:Расписание группы 3733805/40002
TIMEZONE-ID:Europe/Moscow
X-WR-TIMEZONE:Europe/Moscow
BEGIN:VEVENT
UID:p2fy@192.168.245.71:3006
SEQUENCE:0
DTSTAMP:20260423T173957Z
DTSTART:20251202T110000Z
DTEND:20251202T124000Z
SUMMARY:Элективная физическая культура и спорт
LOCATION:СК Спортивный зал
END:VEVENT
BEGIN:VEVENT
UID:vymx@192.168.245.71:3006
SEQUENCE:0
DTSTAMP:20260423T173957Z
DTSTART:20251202T130000Z
DTEND:20251202T144000Z
SUMMARY:Иностранный язык: деловая коммуникация
LOCATION:16 к. 411
END:VEVENT
BEGIN:VEVENT
UID:k5ra@192.168.245.71:3006
SEQUENCE:0
DTSTAMP:20260423T173957Z
DTSTART:20251202T150000Z
DTEND:20251202T171500Z
SUMMARY:Русский язык как иностранный. Язык специальности
LOCATION:15 к. 430
END:VEVENT
BEGIN:VEVENT
UID:2zht@192.168.245.71:3006
SEQUENCE:0
DTSTAMP:20260423T173957Z
DTSTART:20251203T070000Z
DTEND:20251203T084000Z
SUMMARY:Цифровая аналитика
LOCATION:50 уч.к 1336
END:VEVENT
BEGIN:VEVENT
UID:kao3@192.168.245.71:3006
SEQUENCE:0
DTSTAMP:20260423T173957Z
DTSTART:20251203T090000Z
DTEND:20251203T104000Z
SUMMARY:Маркетинг
LOCATION:50 уч.к 1214
END:VEVENT
BEGIN:VEVENT
UID:08uk@192.168.245.71:3006
SEQUENCE:0
DTSTAMP:20260423T173957Z
DTSTART:20251203T150000Z
DTEND:20251203T164000Z
SUMMARY:Русский язык как иностранный: деловая коммуникация
LOCATION:50 уч.к 1328
END:VEVENT
BEGIN:VEVENT
UID:shqe@192.168.245.71:3006
SEQUENCE:0
DTSTAMP:20260423T173957Z
DTSTART:20251204T070000Z
DTEND:20251204T084000Z
SUMMARY:Бухгалтерский учет
LOCATION:50 уч.к 1233
END:VEVENT
BEGIN:VEVENT
UID:bdxd@192.168.245.71:3006
SEQUENCE:0
DTSTAMP:20260423T173957Z
DTSTART:20251204T110000Z
DTEND:20251204T124000Z
SUMMARY:Теория систем
LOCATION:ГЗ 237
END:VEVENT
BEGIN:VEVENT
UID:ykkd@192.168.245.71:3006
SEQUENCE:0
DTSTAMP:20260423T173957Z
DTSTART:20251205T070000Z
DTEND:20251205T084000Z
SUMMARY:История России
LOCATION:ГЗ 235
END:VEVENT
BEGIN:VEVENT
UID:v82r@192.168.245.71:3006
SEQUENCE:0
DTSTAMP:20260423T173957Z
DTSTART:20251205T090000Z
DTEND:20251205T104000Z
SUMMARY:Менеджмент
LOCATION:ГЗ 329
END:VEVENT
BEGIN:VEVENT
UID:68fl@192.168.245.71:3006
SEQUENCE:0
DTSTAMP:20260423T173957Z
DTSTART:20251205T110000Z
DTEND:20251205T124000Z
SUMMARY:Элективная физическая культура и спорт
LOCATION:СК Спортивный зал
END:VEVENT
BEGIN:VEVENT
UID:m3fa@192.168.245.71:3006
SEQUENCE:0
DTSTAMP:20260423T173957Z
DTSTART:20251205T130000Z
DTEND:20251205T144000Z
SUMMARY:Маркетинг
LOCATION:50 уч.к 1323
END:VEVENT
BEGIN:VEVENT
UID:wg2e@192.168.245.71:3006
SEQUENCE:0
DTSTAMP:20260423T173957Z
DTSTART:20251206T110000Z
DTEND:20251206T124000Z
SUMMARY:Теория вероятностей
LOCATION:ГЗ 235
END:VEVENT
BEGIN:VEVENT
UID:6ibb@192.168.245.71:3006
SEQUENCE:0
DTSTAMP:20260423T173957Z
DTSTART:20251206T130000Z
DTEND:20251206T144000Z
SUMMARY:Теория вероятностей
LOCATION:ГЗ 244
END:VEVENT
END:VCALENDAR