BEGIN:VCALENDAR
VERSION:2.0
PRODID:-//spbstu.ru//ical//RU
NAME:Расписание группы 3733805/40002
X-WR-CALNAME:Расписание группы 3733805/40002
TIMEZONE-ID:Europe/Moscow
X-WR-TIMEZONE:Europe/Moscow
BEGIN:VEVENT
UID:067w@192.168.245.71:3006
SEQUENCE:0
DTSTAMP:20260421T225025Z
DTSTART:20260303T110000Z
DTEND:20260303T124000Z
SUMMARY:Элективная  физическая культура и спорт
LOCATION:СК Спортивный зал
END:VEVENT
BEGIN:VEVENT
UID:r6gb@192.168.245.71:3006
SEQUENCE:0
DTSTAMP:20260421T225025Z
DTSTART:20260303T130000Z
DTEND:20260303T144000Z
SUMMARY:Статистика
LOCATION:ГЗ 235
END:VEVENT
BEGIN:VEVENT
UID:nbp1@192.168.245.71:3006
SEQUENCE:0
DTSTAMP:20260421T225025Z
DTSTART:20260303T150000Z
DTEND:20260303T164000Z
SUMMARY:Статистика
LOCATION:ГЗ 215
END:VEVENT
BEGIN:VEVENT
UID:clql@192.168.245.71:3006
SEQUENCE:0
DTSTAMP:20260421T225025Z
DTSTART:20260304T070000Z
DTEND:20260304T084000Z
SUMMARY:Дискретная математика
LOCATION:50 уч.к 1249
END:VEVENT
BEGIN:VEVENT
UID:ijly@192.168.245.71:3006
SEQUENCE:0
DTSTAMP:20260421T225025Z
DTSTART:20260304T090000Z
DTEND:20260304T104000Z
SUMMARY:Статистика
LOCATION:50 уч.к 1103
END:VEVENT
BEGIN:VEVENT
UID:wu17@192.168.245.71:3006
SEQUENCE:0
DTSTAMP:20260421T225025Z
DTSTART:20260304T110000Z
DTEND:20260304T124000Z
SUMMARY:Финансы и кредит
LOCATION:ГЗ 235
END:VEVENT
BEGIN:VEVENT
UID:03ss@192.168.245.71:3006
SEQUENCE:0
DTSTAMP:20260421T225025Z
DTSTART:20260304T130000Z
DTEND:20260304T144000Z
SUMMARY:Моделирование бизнес-процессов
LOCATION:ГЗ 257
END:VEVENT
BEGIN:VEVENT
UID:sdvk@192.168.245.71:3006
SEQUENCE:0
DTSTAMP:20260421T225025Z
DTSTART:20260305T070000Z
DTEND:20260305T084000Z
SUMMARY:Дискретная математика
LOCATION:16 к. 400
END:VEVENT
BEGIN:VEVENT
UID:y05z@192.168.245.71:3006
SEQUENCE:0
DTSTAMP:20260421T225025Z
DTSTART:20260305T090000Z
DTEND:20260305T104000Z
SUMMARY:Иностранный язык. Профессионально-ориентированный курс
LOCATION:16 к. 410
END:VEVENT
BEGIN:VEVENT
UID:93m6@192.168.245.71:3006
SEQUENCE:0
DTSTAMP:20260421T225025Z
DTSTART:20260305T110000Z
DTEND:20260305T124000Z
SUMMARY:Иностранный язык. Профессионально-ориентированный курс
LOCATION:16 к. 410
END:VEVENT
BEGIN:VEVENT
UID:9c2h@192.168.245.71:3006
SEQUENCE:0
DTSTAMP:20260421T225025Z
DTSTART:20260306T090000Z
DTEND:20260306T104000Z
SUMMARY:Моделирование бизнес-процессов
LOCATION:50 уч.к 1204
END:VEVENT
BEGIN:VEVENT
UID:eicb@192.168.245.71:3006
SEQUENCE:0
DTSTAMP:20260421T225025Z
DTSTART:20260306T110000Z
DTEND:20260306T124000Z
SUMMARY:Элективная  физическая культура и спорт
LOCATION:СК Спортивный зал
END:VEVENT
BEGIN:VEVENT
UID:na5n@192.168.245.71:3006
SEQUENCE:0
DTSTAMP:20260421T225025Z
DTSTART:20260307T050000Z
DTEND:20260307T064000Z
SUMMARY:Технологии программирования
LOCATION:50 уч.к 1104
END:VEVENT
BEGIN:VEVENT
UID:i4t6@192.168.245.71:3006
SEQUENCE:0
DTSTAMP:20260421T225025Z
DTSTART:20260307T070000Z
DTEND:20260307T084000Z
SUMMARY:Технологии программирования
LOCATION:50 уч.к 1104
END:VEVENT
END:VCALENDAR