BEGIN:VCALENDAR
VERSION:2.0
PRODID:-//spbstu.ru//ical//RU
NAME:Расписание группы 3733805/40003
X-WR-CALNAME:Расписание группы 3733805/40003
TIMEZONE-ID:Europe/Moscow
X-WR-TIMEZONE:Europe/Moscow
BEGIN:VEVENT
UID:9f3k@192.168.245.71:3006
SEQUENCE:0
DTSTAMP:20260424T002652Z
DTSTART:20251124T110000Z
DTEND:20251124T124000Z
SUMMARY:Маркетинг
LOCATION:50 уч.к 1421
END:VEVENT
BEGIN:VEVENT
UID:3njh@192.168.245.71:3006
SEQUENCE:0
DTSTAMP:20260424T002652Z
DTSTART:20251124T130000Z
DTEND:20251124T144000Z
SUMMARY:Теория вероятностей
LOCATION:50 уч.к 1324
END:VEVENT
BEGIN:VEVENT
UID:j3eg@192.168.245.71:3006
SEQUENCE:0
DTSTAMP:20260424T002652Z
DTSTART:20251125T110000Z
DTEND:20251125T124000Z
SUMMARY:Элективная физическая культура и спорт
LOCATION:СК Спортивный зал
END:VEVENT
BEGIN:VEVENT
UID:y18w@192.168.245.71:3006
SEQUENCE:0
DTSTAMP:20260424T002652Z
DTSTART:20251125T130000Z
DTEND:20251125T144000Z
SUMMARY:Иностранный язык: деловая коммуникация
LOCATION:16 к. 413
END:VEVENT
BEGIN:VEVENT
UID:ikwy@192.168.245.71:3006
SEQUENCE:0
DTSTAMP:20260424T002652Z
DTSTART:20251125T150000Z
DTEND:20251125T171500Z
SUMMARY:Русский язык как иностранный. Язык специальности
LOCATION:15 к. 430
END:VEVENT
BEGIN:VEVENT
UID:hame@192.168.245.71:3006
SEQUENCE:0
DTSTAMP:20260424T002652Z
DTSTART:20251126T090000Z
DTEND:20251126T104000Z
SUMMARY:Маркетинг
LOCATION:50 уч.к 1214
END:VEVENT
BEGIN:VEVENT
UID:mtrm@192.168.245.71:3006
SEQUENCE:0
DTSTAMP:20260424T002652Z
DTSTART:20251126T110000Z
DTEND:20251126T124000Z
SUMMARY:Менеджмент
LOCATION:50 уч.к 1218
END:VEVENT
BEGIN:VEVENT
UID:nq8m@192.168.245.71:3006
SEQUENCE:0
DTSTAMP:20260424T002652Z
DTSTART:20251126T150000Z
DTEND:20251126T164000Z
SUMMARY:Русский язык как иностранный: деловая коммуникация
LOCATION:50 уч.к 1250
END:VEVENT
BEGIN:VEVENT
UID:j3v3@192.168.245.71:3006
SEQUENCE:0
DTSTAMP:20260424T002652Z
DTSTART:20251127T110000Z
DTEND:20251127T124000Z
SUMMARY:Теория систем
LOCATION:ГЗ 237
END:VEVENT
BEGIN:VEVENT
UID:ihxt@192.168.245.71:3006
SEQUENCE:0
DTSTAMP:20260424T002652Z
DTSTART:20251127T130000Z
DTEND:20251127T144000Z
SUMMARY:Бухгалтерский учет
LOCATION:ГЗ 280
END:VEVENT
BEGIN:VEVENT
UID:jhfh@192.168.245.71:3006
SEQUENCE:0
DTSTAMP:20260424T002652Z
DTSTART:20251128T070000Z
DTEND:20251128T084000Z
SUMMARY:Бухгалтерский учет
LOCATION:ГЗ 235
END:VEVENT
BEGIN:VEVENT
UID:qvgn@192.168.245.71:3006
SEQUENCE:0
DTSTAMP:20260424T002652Z
DTSTART:20251128T090000Z
DTEND:20251128T104000Z
SUMMARY:Менеджмент
LOCATION:ГЗ 329
END:VEVENT
BEGIN:VEVENT
UID:rrqy@192.168.245.71:3006
SEQUENCE:0
DTSTAMP:20260424T002652Z
DTSTART:20251128T110000Z
DTEND:20251128T124000Z
SUMMARY:Элективная физическая культура и спорт
LOCATION:СК Спортивный зал
END:VEVENT
BEGIN:VEVENT
UID:5btc@192.168.245.71:3006
SEQUENCE:0
DTSTAMP:20260424T002652Z
DTSTART:20251129T110000Z
DTEND:20251129T124000Z
SUMMARY:Теория вероятностей
LOCATION:ГЗ 235
END:VEVENT
END:VCALENDAR