BEGIN:VCALENDAR
VERSION:2.0
PRODID:-//spbstu.ru//ical//RU
NAME:Расписание группы 3733805/40003
X-WR-CALNAME:Расписание группы 3733805/40003
TIMEZONE-ID:Europe/Moscow
X-WR-TIMEZONE:Europe/Moscow
BEGIN:VEVENT
UID:l856@192.168.245.71:3006
SEQUENCE:0
DTSTAMP:20260425T225940Z
DTSTART:20250902T130000Z
DTEND:20250902T144000Z
SUMMARY:Иностранный язык: деловая коммуникация
LOCATION:16 к. 413
END:VEVENT
BEGIN:VEVENT
UID:6stq@192.168.245.71:3006
SEQUENCE:0
DTSTAMP:20260425T225940Z
DTSTART:20250902T150000Z
DTEND:20250902T171500Z
SUMMARY:Русский язык как иностранный. Язык специальности
LOCATION:15 к. 430
END:VEVENT
BEGIN:VEVENT
UID:04so@192.168.245.71:3006
SEQUENCE:0
DTSTAMP:20260425T225940Z
DTSTART:20250903T090000Z
DTEND:20250903T104000Z
SUMMARY:Маркетинг
LOCATION:50 уч.к 1214
END:VEVENT
BEGIN:VEVENT
UID:j0cw@192.168.245.71:3006
SEQUENCE:0
DTSTAMP:20260425T225940Z
DTSTART:20250903T110000Z
DTEND:20250903T124000Z
SUMMARY:Менеджмент
LOCATION:50 уч.к 1218
END:VEVENT
BEGIN:VEVENT
UID:z94l@192.168.245.71:3006
SEQUENCE:0
DTSTAMP:20260425T225940Z
DTSTART:20250904T110000Z
DTEND:20250904T124000Z
SUMMARY:Теория систем
LOCATION:ГЗ 237
END:VEVENT
BEGIN:VEVENT
UID:84dw@192.168.245.71:3006
SEQUENCE:0
DTSTAMP:20260425T225940Z
DTSTART:20250904T130000Z
DTEND:20250904T144000Z
SUMMARY:Бухгалтерский учет
LOCATION:ГЗ 228
END:VEVENT
BEGIN:VEVENT
UID:om2v@192.168.245.71:3006
SEQUENCE:0
DTSTAMP:20260425T225940Z
DTSTART:20250905T070000Z
DTEND:20250905T084000Z
SUMMARY:Бухгалтерский учет
LOCATION:ГЗ 235
END:VEVENT
BEGIN:VEVENT
UID:bmy4@192.168.245.71:3006
SEQUENCE:0
DTSTAMP:20260425T225940Z
DTSTART:20250905T090000Z
DTEND:20250905T104000Z
SUMMARY:Менеджмент
LOCATION:ГЗ 329
END:VEVENT
BEGIN:VEVENT
UID:2nuh@192.168.245.71:3006
SEQUENCE:0
DTSTAMP:20260425T225940Z
DTSTART:20250906T050000Z
DTEND:20250906T064000Z
SUMMARY:Цифровая аналитика
LOCATION:DL Дистанционно
END:VEVENT
BEGIN:VEVENT
UID:9qlv@192.168.245.71:3006
SEQUENCE:0
DTSTAMP:20260425T225940Z
DTSTART:20250906T110000Z
DTEND:20250906T124000Z
SUMMARY:Теория вероятностей
LOCATION:ГЗ 235
END:VEVENT
END:VCALENDAR