BEGIN:VCALENDAR
VERSION:2.0
PRODID:-//spbstu.ru//ical//RU
NAME:Расписание группы 3733805/40003
X-WR-CALNAME:Расписание группы 3733805/40003
TIMEZONE-ID:Europe/Moscow
X-WR-TIMEZONE:Europe/Moscow
BEGIN:VEVENT
UID:k0uk@192.168.245.71:3006
SEQUENCE:0
DTSTAMP:20260422T171737Z
DTSTART:20260112T070000Z
DTEND:20260112T084000Z
SUMMARY:Маркетинг
LOCATION:DL Дистанционно
END:VEVENT
BEGIN:VEVENT
UID:ghgg@192.168.245.71:3006
SEQUENCE:0
DTSTAMP:20260422T171737Z
DTSTART:20260114T070000Z
DTEND:20260114T104000Z
SUMMARY:Маркетинг
LOCATION:50 уч.к 1251
END:VEVENT
BEGIN:VEVENT
UID:dol0@192.168.245.71:3006
SEQUENCE:0
DTSTAMP:20260422T171737Z
DTSTART:20260117T070000Z
DTEND:20260117T084000Z
SUMMARY:Бухгалтерский учет
LOCATION:DL Дистанционно
END:VEVENT
END:VCALENDAR