BEGIN:VCALENDAR
VERSION:2.0
PRODID:-//spbstu.ru//ical//RU
NAME:Расписание группы 3733805/40003
X-WR-CALNAME:Расписание группы 3733805/40003
TIMEZONE-ID:Europe/Moscow
X-WR-TIMEZONE:Europe/Moscow
BEGIN:VEVENT
UID:2vnq@192.168.245.71:3006
SEQUENCE:0
DTSTAMP:20260422T043026Z
DTSTART:20260209T090000Z
DTEND:20260209T104000Z
SUMMARY:Безопасность жизнедеятельности
LOCATION:50 уч.к 1325
END:VEVENT
BEGIN:VEVENT
UID:kwp6@192.168.245.71:3006
SEQUENCE:0
DTSTAMP:20260422T043026Z
DTSTART:20260209T110000Z
DTEND:20260209T124000Z
SUMMARY:Финансы и кредит
LOCATION:50 уч.к 1230
END:VEVENT
BEGIN:VEVENT
UID:m61v@192.168.245.71:3006
SEQUENCE:0
DTSTAMP:20260422T043026Z
DTSTART:20260210T110000Z
DTEND:20260210T124000Z
SUMMARY:Элективная  физическая культура и спорт
LOCATION:СК Спортивный зал
END:VEVENT
BEGIN:VEVENT
UID:3jnh@192.168.245.71:3006
SEQUENCE:0
DTSTAMP:20260422T043026Z
DTSTART:20260210T130000Z
DTEND:20260210T144000Z
SUMMARY:Безопасность жизнедеятельности
LOCATION:ГЗ 235
END:VEVENT
BEGIN:VEVENT
UID:z9no@192.168.245.71:3006
SEQUENCE:0
DTSTAMP:20260422T043026Z
DTSTART:20260210T150000Z
DTEND:20260210T180000Z
SUMMARY:Русский язык как иностранный: Профессионально-ориентированный курс
LOCATION:50 уч.к 1428
END:VEVENT
BEGIN:VEVENT
UID:csf5@192.168.245.71:3006
SEQUENCE:0
DTSTAMP:20260422T043026Z
DTSTART:20260211T070000Z
DTEND:20260211T084000Z
SUMMARY:Статистика
LOCATION:50 уч.к 1103
END:VEVENT
BEGIN:VEVENT
UID:ulpq@192.168.245.71:3006
SEQUENCE:0
DTSTAMP:20260422T043026Z
DTSTART:20260211T090000Z
DTEND:20260211T104000Z
SUMMARY:Моделирование бизнес-процессов
LOCATION:50 уч.к 1104
END:VEVENT
BEGIN:VEVENT
UID:nkhn@192.168.245.71:3006
SEQUENCE:0
DTSTAMP:20260422T043026Z
DTSTART:20260211T110000Z
DTEND:20260211T124000Z
SUMMARY:Финансы и кредит
LOCATION:ГЗ 235
END:VEVENT
BEGIN:VEVENT
UID:gbe2@192.168.245.71:3006
SEQUENCE:0
DTSTAMP:20260422T043026Z
DTSTART:20260211T130000Z
DTEND:20260211T144000Z
SUMMARY:Моделирование бизнес-процессов
LOCATION:ГЗ 257
END:VEVENT
BEGIN:VEVENT
UID:35bn@192.168.245.71:3006
SEQUENCE:0
DTSTAMP:20260422T043026Z
DTSTART:20260212T090000Z
DTEND:20260212T104000Z
SUMMARY:Иностранный язык. Профессионально-ориентированный курс
LOCATION:16 к. 413
END:VEVENT
BEGIN:VEVENT
UID:sc0v@192.168.245.71:3006
SEQUENCE:0
DTSTAMP:20260422T043026Z
DTSTART:20260212T110000Z
DTEND:20260212T124000Z
SUMMARY:Иностранный язык. Профессионально-ориентированный курс
LOCATION:16 к. 413
END:VEVENT
BEGIN:VEVENT
UID:rb9i@192.168.245.71:3006
SEQUENCE:0
DTSTAMP:20260422T043026Z
DTSTART:20260213T110000Z
DTEND:20260213T124000Z
SUMMARY:Элективная  физическая культура и спорт
LOCATION:СК Спортивный зал
END:VEVENT
BEGIN:VEVENT
UID:mbt4@192.168.245.71:3006
SEQUENCE:0
DTSTAMP:20260422T043026Z
DTSTART:20260214T070000Z
DTEND:20260214T084000Z
SUMMARY:Технологии программирования
LOCATION:50 уч.к 1104
END:VEVENT
BEGIN:VEVENT
UID:aagn@192.168.245.71:3006
SEQUENCE:0
DTSTAMP:20260422T043026Z
DTSTART:20260214T090000Z
DTEND:20260214T104000Z
SUMMARY:Технологии программирования
LOCATION:50 уч.к 1104
END:VEVENT
BEGIN:VEVENT
UID:dooz@192.168.245.71:3006
SEQUENCE:0
DTSTAMP:20260422T043026Z
DTSTART:20260214T110000Z
DTEND:20260214T124000Z
SUMMARY:Дискретная математика
LOCATION:50 уч.к 1323
END:VEVENT
BEGIN:VEVENT
UID:p3ir@192.168.245.71:3006
SEQUENCE:0
DTSTAMP:20260422T043026Z
DTSTART:20260214T130000Z
DTEND:20260214T144000Z
SUMMARY:Теория вероятностей
LOCATION:50 уч.к 1328
END:VEVENT
BEGIN:VEVENT
UID:aej2@192.168.245.71:3006
SEQUENCE:0
DTSTAMP:20260422T043026Z
DTSTART:20260214T130000Z
DTEND:20260214T144000Z
SUMMARY:Технологии программирования
LOCATION:50 уч.к 1341
END:VEVENT
END:VCALENDAR