BEGIN:VCALENDAR
VERSION:2.0
PRODID:-//spbstu.ru//ical//RU
NAME:Расписание группы 3733805/40003
X-WR-CALNAME:Расписание группы 3733805/40003
TIMEZONE-ID:Europe/Moscow
X-WR-TIMEZONE:Europe/Moscow
BEGIN:VEVENT
UID:4sfa@192.168.245.71:3006
SEQUENCE:0
DTSTAMP:20260421T181007Z
DTSTART:20260601T070000Z
DTEND:20260601T084000Z
SUMMARY:Статистика
LOCATION:DL Дистанционно
END:VEVENT
BEGIN:VEVENT
UID:5ukg@192.168.245.71:3006
SEQUENCE:0
DTSTAMP:20260421T181007Z
DTSTART:20260602T070000Z
DTEND:20260602T094000Z
SUMMARY:Статистика
LOCATION:50 уч.к 1103
END:VEVENT
BEGIN:VEVENT
UID:ybpm@192.168.245.71:3006
SEQUENCE:0
DTSTAMP:20260421T181007Z
DTSTART:20260604T150000Z
DTEND:20260604T164000Z
SUMMARY:Технологии программирования
LOCATION:DL Дистанционно
END:VEVENT
BEGIN:VEVENT
UID:wt52@192.168.245.71:3006
SEQUENCE:0
DTSTAMP:20260421T181007Z
DTSTART:20260606T070000Z
DTEND:20260606T094000Z
SUMMARY:Технологии программирования
LOCATION:50 уч.к 1336
END:VEVENT
END:VCALENDAR