BEGIN:VCALENDAR
VERSION:2.0
PRODID:-//spbstu.ru//ical//RU
NAME:Расписание группы 3733805/40004
X-WR-CALNAME:Расписание группы 3733805/40004
TIMEZONE-ID:Europe/Moscow
X-WR-TIMEZONE:Europe/Moscow
BEGIN:VEVENT
UID:xq0i@192.168.245.71:3006
SEQUENCE:0
DTSTAMP:20260421T110528Z
DTSTART:20260518T110000Z
DTEND:20260518T124000Z
SUMMARY:Безопасность жизнедеятельности
LOCATION:50 уч.к 1325
END:VEVENT
BEGIN:VEVENT
UID:7qms@192.168.245.71:3006
SEQUENCE:0
DTSTAMP:20260421T110528Z
DTSTART:20260518T130000Z
DTEND:20260518T144000Z
SUMMARY:Финансы и кредит
LOCATION:50 уч.к 1230
END:VEVENT
BEGIN:VEVENT
UID:lz5i@192.168.245.71:3006
SEQUENCE:0
DTSTAMP:20260421T110528Z
DTSTART:20260519T150000Z
DTEND:20260519T180000Z
SUMMARY:Русский язык как иностранный: Профессионально-ориентированный курс
LOCATION:50 уч.к 1428
END:VEVENT
BEGIN:VEVENT
UID:oqc6@192.168.245.71:3006
SEQUENCE:0
DTSTAMP:20260421T110528Z
DTSTART:20260521T090000Z
DTEND:20260521T104000Z
SUMMARY:Иностранный язык. Профессионально-ориентированный курс
LOCATION:16 к. 401
END:VEVENT
BEGIN:VEVENT
UID:dlhc@192.168.245.71:3006
SEQUENCE:0
DTSTAMP:20260421T110528Z
DTSTART:20260521T110000Z
DTEND:20260521T124000Z
SUMMARY:Иностранный язык. Профессионально-ориентированный курс
LOCATION:16 к. 401
END:VEVENT
BEGIN:VEVENT
UID:n0v2@192.168.245.71:3006
SEQUENCE:0
DTSTAMP:20260421T110528Z
DTSTART:20260523T070000Z
DTEND:20260523T084000Z
SUMMARY:Технологии программирования
LOCATION:50 уч.к 1336
END:VEVENT
BEGIN:VEVENT
UID:g6gw@192.168.245.71:3006
SEQUENCE:0
DTSTAMP:20260421T110528Z
DTSTART:20260523T110000Z
DTEND:20260523T124000Z
SUMMARY:Статистика
LOCATION:50 уч.к 1103
END:VEVENT
BEGIN:VEVENT
UID:nm9x@192.168.245.71:3006
SEQUENCE:0
DTSTAMP:20260421T110528Z
DTSTART:20260523T130000Z
DTEND:20260523T144000Z
SUMMARY:Технологии программирования
LOCATION:50 уч.к 1341
END:VEVENT
END:VCALENDAR