BEGIN:VCALENDAR
VERSION:2.0
PRODID:-//spbstu.ru//ical//RU
NAME:Расписание группы 3733805/40004
X-WR-CALNAME:Расписание группы 3733805/40004
TIMEZONE-ID:Europe/Moscow
X-WR-TIMEZONE:Europe/Moscow
BEGIN:VEVENT
UID:2coe@192.168.245.71:3006
SEQUENCE:0
DTSTAMP:20260421T073008Z
DTSTART:20260504T110000Z
DTEND:20260504T124000Z
SUMMARY:Безопасность жизнедеятельности
LOCATION:50 уч.к 1325
END:VEVENT
BEGIN:VEVENT
UID:pwbu@192.168.245.71:3006
SEQUENCE:0
DTSTAMP:20260421T073008Z
DTSTART:20260504T130000Z
DTEND:20260504T144000Z
SUMMARY:Финансы и кредит
LOCATION:50 уч.к 1230
END:VEVENT
BEGIN:VEVENT
UID:62ok@192.168.245.71:3006
SEQUENCE:0
DTSTAMP:20260421T073008Z
DTSTART:20260505T110000Z
DTEND:20260505T124000Z
SUMMARY:Элективная  физическая культура и спорт
LOCATION:СК Спортивный зал
END:VEVENT
BEGIN:VEVENT
UID:fnfc@192.168.245.71:3006
SEQUENCE:0
DTSTAMP:20260421T073008Z
DTSTART:20260505T150000Z
DTEND:20260505T180000Z
SUMMARY:Русский язык как иностранный: Профессионально-ориентированный курс
LOCATION:50 уч.к 1428
END:VEVENT
BEGIN:VEVENT
UID:0ml3@192.168.245.71:3006
SEQUENCE:0
DTSTAMP:20260421T073008Z
DTSTART:20260506T070000Z
DTEND:20260506T084000Z
SUMMARY:Моделирование бизнес-процессов
LOCATION:50 уч.к 1104
END:VEVENT
BEGIN:VEVENT
UID:jdbv@192.168.245.71:3006
SEQUENCE:0
DTSTAMP:20260421T073008Z
DTSTART:20260506T090000Z
DTEND:20260506T104000Z
SUMMARY:Дискретная математика
LOCATION:50 уч.к 1249
END:VEVENT
BEGIN:VEVENT
UID:w3fv@192.168.245.71:3006
SEQUENCE:0
DTSTAMP:20260421T073008Z
DTSTART:20260506T110000Z
DTEND:20260506T124000Z
SUMMARY:Финансы и кредит
LOCATION:ГЗ 235
END:VEVENT
BEGIN:VEVENT
UID:9q0b@192.168.245.71:3006
SEQUENCE:0
DTSTAMP:20260421T073008Z
DTSTART:20260506T130000Z
DTEND:20260506T144000Z
SUMMARY:Моделирование бизнес-процессов
LOCATION:ГЗ 257
END:VEVENT
BEGIN:VEVENT
UID:5gxh@192.168.245.71:3006
SEQUENCE:0
DTSTAMP:20260421T073008Z
DTSTART:20260507T090000Z
DTEND:20260507T104000Z
SUMMARY:Иностранный язык. Профессионально-ориентированный курс
LOCATION:16 к. 401
END:VEVENT
BEGIN:VEVENT
UID:lps5@192.168.245.71:3006
SEQUENCE:0
DTSTAMP:20260421T073008Z
DTSTART:20260507T110000Z
DTEND:20260507T124000Z
SUMMARY:Иностранный язык. Профессионально-ориентированный курс
LOCATION:16 к. 401
END:VEVENT
BEGIN:VEVENT
UID:saba@192.168.245.71:3006
SEQUENCE:0
DTSTAMP:20260421T073008Z
DTSTART:20260508T110000Z
DTEND:20260508T124000Z
SUMMARY:Элективная  физическая культура и спорт
LOCATION:СК Спортивный зал
END:VEVENT
END:VCALENDAR