BEGIN:VCALENDAR
VERSION:2.0
PRODID:-//spbstu.ru//ical//RU
NAME:Расписание группы 3733806/40002
X-WR-CALNAME:Расписание группы 3733806/40002
TIMEZONE-ID:Europe/Moscow
X-WR-TIMEZONE:Europe/Moscow
BEGIN:VEVENT
UID:7xg7@192.168.245.71:3006
SEQUENCE:0
DTSTAMP:20260422T043255Z
DTSTART:20260525T100000Z
DTEND:20260525T124000Z
SUMMARY:Инфраструктура мировой торговли
LOCATION:50 уч.к 1223
END:VEVENT
BEGIN:VEVENT
UID:t3tl@192.168.245.71:3006
SEQUENCE:0
DTSTAMP:20260422T043255Z
DTSTART:20260526T090000Z
DTEND:20260526T104000Z
SUMMARY:Безопасность жизнедеятельности
LOCATION:50 уч.к 1234
END:VEVENT
BEGIN:VEVENT
UID:tldx@192.168.245.71:3006
SEQUENCE:0
DTSTAMP:20260422T043255Z
DTSTART:20260527T090000Z
DTEND:20260527T104000Z
SUMMARY:Элективная  физическая культура и спорт
LOCATION:СК Спортивный зал
END:VEVENT
BEGIN:VEVENT
UID:kxu2@192.168.245.71:3006
SEQUENCE:0
DTSTAMP:20260422T043255Z
DTSTART:20260527T110000Z
DTEND:20260527T144000Z
SUMMARY:Иностранный язык. Профессионально-ориентированный курс
LOCATION:16 к. 402
END:VEVENT
BEGIN:VEVENT
UID:prha@192.168.245.71:3006
SEQUENCE:0
DTSTAMP:20260422T043255Z
DTSTART:20260528T080000Z
DTEND:20260528T090000Z
SUMMARY:Основы проектной деятельности
LOCATION:50 уч.к 1230
END:VEVENT
BEGIN:VEVENT
UID:014f@192.168.245.71:3006
SEQUENCE:0
DTSTAMP:20260422T043255Z
DTSTART:20260529T090000Z
DTEND:20260529T104000Z
SUMMARY:Оценка и прогнозирование торгово-закупочной деятельности
LOCATION:DL Дистанционно
END:VEVENT
END:VCALENDAR