BEGIN:VCALENDAR
VERSION:2.0
PRODID:-//spbstu.ru//ical//RU
NAME:Расписание группы 3734302/40001
X-WR-CALNAME:Расписание группы 3734302/40001
TIMEZONE-ID:Europe/Moscow
X-WR-TIMEZONE:Europe/Moscow
BEGIN:VEVENT
UID:j43l@192.168.245.71:3006
SEQUENCE:0
DTSTAMP:20260424T055325Z
DTSTART:20251215T070000Z
DTEND:20251215T084000Z
SUMMARY:Иностранный язык: деловая коммуникация
LOCATION:16 к. 418
END:VEVENT
BEGIN:VEVENT
UID:qzom@192.168.245.71:3006
SEQUENCE:0
DTSTAMP:20260424T055325Z
DTSTART:20251215T110000Z
DTEND:20251215T124000Z
SUMMARY:Второй иностранный язык (испанский): базовая подготовка\, Английск
 ий
LOCATION:50 уч.к 1230
END:VEVENT
BEGIN:VEVENT
UID:fq5n@192.168.245.71:3006
SEQUENCE:0
DTSTAMP:20260424T055325Z
DTSTART:20251215T130000Z
DTEND:20251215T144000Z
SUMMARY:Второй иностранный язык (испанский): базовая подготовка\, Английск
 ий
LOCATION:50 уч.к 1230
END:VEVENT
BEGIN:VEVENT
UID:nnmw@192.168.245.71:3006
SEQUENCE:0
DTSTAMP:20260424T055325Z
DTSTART:20251216T150000Z
DTEND:20251216T171500Z
SUMMARY:Русский язык как иностранный. Язык специальности
LOCATION:15 к. 430
END:VEVENT
BEGIN:VEVENT
UID:o5mq@192.168.245.71:3006
SEQUENCE:0
DTSTAMP:20260424T055325Z
DTSTART:20251217T070000Z
DTEND:20251217T104000Z
SUMMARY:Русский язык как иностранный: деловая коммуникация
LOCATION:50 уч.к 1338
END:VEVENT
BEGIN:VEVENT
UID:gmxm@192.168.245.71:3006
SEQUENCE:0
DTSTAMP:20260424T055325Z
DTSTART:20251217T130000Z
DTEND:20251217T160000Z
SUMMARY:Модуль саморазвития (SoftSkills)
LOCATION:DL Дистанционно
END:VEVENT
BEGIN:VEVENT
UID:n9l9@192.168.245.71:3006
SEQUENCE:0
DTSTAMP:20260424T055325Z
DTSTART:20251218T110000Z
DTEND:20251218T124000Z
SUMMARY:Элективная  физическая культура и спорт
LOCATION:СК Спортивный зал
END:VEVENT
BEGIN:VEVENT
UID:po7i@192.168.245.71:3006
SEQUENCE:0
DTSTAMP:20260424T055325Z
DTSTART:20251219T130000Z
DTEND:20251219T145000Z
SUMMARY:Цифровая аналитика
LOCATION:50 уч.к 1104
END:VEVENT
BEGIN:VEVENT
UID:0gse@192.168.245.71:3006
SEQUENCE:0
DTSTAMP:20260424T055325Z
DTSTART:20251220T070000Z
DTEND:20251220T094000Z
SUMMARY:Второй иностранный язык (испанский): базовая подготовка\, Английск
 ий
LOCATION:50 уч.к 1249
END:VEVENT
END:VCALENDAR