BEGIN:VCALENDAR
VERSION:2.0
PRODID:-//spbstu.ru//ical//RU
NAME:Расписание группы 3734302/40001
X-WR-CALNAME:Расписание группы 3734302/40001
TIMEZONE-ID:Europe/Moscow
X-WR-TIMEZONE:Europe/Moscow
BEGIN:VEVENT
UID:e94t@192.168.245.71:3006
SEQUENCE:0
DTSTAMP:20260425T192013Z
DTSTART:20250929T070000Z
DTEND:20250929T084000Z
SUMMARY:Иностранный язык: деловая коммуникация
LOCATION:16 к. 418
END:VEVENT
BEGIN:VEVENT
UID:xdq5@192.168.245.71:3006
SEQUENCE:0
DTSTAMP:20260425T192013Z
DTSTART:20250929T090000Z
DTEND:20250929T104000Z
SUMMARY:Элективная физическая культура и спорт
LOCATION:СК Спортивный зал
END:VEVENT
BEGIN:VEVENT
UID:of0n@192.168.245.71:3006
SEQUENCE:0
DTSTAMP:20260425T192013Z
DTSTART:20250929T130000Z
DTEND:20250929T144000Z
SUMMARY:Второй иностранный язык (испанский): базовая подготовка\, Английск
 ий
LOCATION:50 уч.к 1230
END:VEVENT
BEGIN:VEVENT
UID:z8i2@192.168.245.71:3006
SEQUENCE:0
DTSTAMP:20260425T192013Z
DTSTART:20250930T150000Z
DTEND:20250930T171500Z
SUMMARY:Русский язык как иностранный. Язык специальности
LOCATION:15 к. 430
END:VEVENT
BEGIN:VEVENT
UID:cfaj@192.168.245.71:3006
SEQUENCE:0
DTSTAMP:20260425T192013Z
DTSTART:20251001T090000Z
DTEND:20251001T104000Z
SUMMARY:Маркетинг
LOCATION:50 уч.к 1245
END:VEVENT
BEGIN:VEVENT
UID:pl7n@192.168.245.71:3006
SEQUENCE:0
DTSTAMP:20260425T192013Z
DTSTART:20251001T110000Z
DTEND:20251001T124000Z
SUMMARY:Психология делового общения
LOCATION:50 уч.к 1341
END:VEVENT
BEGIN:VEVENT
UID:jpvs@192.168.245.71:3006
SEQUENCE:0
DTSTAMP:20260425T192013Z
DTSTART:20251001T150000Z
DTEND:20251001T164000Z
SUMMARY:Русский язык как иностранный: деловая коммуникация
LOCATION:50 уч.к 1250
END:VEVENT
BEGIN:VEVENT
UID:4yvl@192.168.245.71:3006
SEQUENCE:0
DTSTAMP:20260425T192013Z
DTSTART:20251002T070000Z
DTEND:20251002T084000Z
SUMMARY:Менеджмент в сфере услуг
LOCATION:50 уч.к 1214
END:VEVENT
BEGIN:VEVENT
UID:44d3@192.168.245.71:3006
SEQUENCE:0
DTSTAMP:20260425T192013Z
DTSTART:20251002T090000Z
DTEND:20251002T104000Z
SUMMARY:Сервисная деятельность
LOCATION:50 уч.к 1325
END:VEVENT
BEGIN:VEVENT
UID:rwfx@192.168.245.71:3006
SEQUENCE:0
DTSTAMP:20260425T192013Z
DTSTART:20251002T110000Z
DTEND:20251002T124000Z
SUMMARY:Элективная физическая культура и спорт
LOCATION:СК Спортивный зал
END:VEVENT
BEGIN:VEVENT
UID:1wqh@192.168.245.71:3006
SEQUENCE:0
DTSTAMP:20260425T192013Z
DTSTART:20251003T090000Z
DTEND:20251003T104000Z
SUMMARY:Психология делового общения
LOCATION:50 уч.к 1239
END:VEVENT
BEGIN:VEVENT
UID:4n60@192.168.245.71:3006
SEQUENCE:0
DTSTAMP:20260425T192013Z
DTSTART:20251003T110000Z
DTEND:20251003T124000Z
SUMMARY:Менеджмент в сфере услуг
LOCATION:50 уч.к 1422
END:VEVENT
BEGIN:VEVENT
UID:wv0i@192.168.245.71:3006
SEQUENCE:0
DTSTAMP:20260425T192013Z
DTSTART:20251004T070000Z
DTEND:20251004T084000Z
SUMMARY:История России
LOCATION:50 уч.к 1248
END:VEVENT
BEGIN:VEVENT
UID:u41w@192.168.245.71:3006
SEQUENCE:0
DTSTAMP:20260425T192013Z
DTSTART:20251004T090000Z
DTEND:20251004T104000Z
SUMMARY:Теория вероятностей
LOCATION:50 уч.к 1242
END:VEVENT
BEGIN:VEVENT
UID:tjb6@192.168.245.71:3006
SEQUENCE:0
DTSTAMP:20260425T192013Z
DTSTART:20251004T110000Z
DTEND:20251004T124000Z
SUMMARY:Теория вероятностей
LOCATION:50 уч.к 1234
END:VEVENT
END:VCALENDAR