BEGIN:VCALENDAR
VERSION:2.0
PRODID:-//spbstu.ru//ical//RU
NAME:Расписание группы 3734302/40001
X-WR-CALNAME:Расписание группы 3734302/40001
TIMEZONE-ID:Europe/Moscow
X-WR-TIMEZONE:Europe/Moscow
BEGIN:VEVENT
UID:uf46@192.168.245.71:3006
SEQUENCE:0
DTSTAMP:20260423T044202Z
DTSTART:20260209T070000Z
DTEND:20260209T084000Z
SUMMARY:Безопасность жизнедеятельности
LOCATION:50 уч.к 1242
END:VEVENT
BEGIN:VEVENT
UID:kshf@192.168.245.71:3006
SEQUENCE:0
DTSTAMP:20260423T044202Z
DTSTART:20260209T090000Z
DTEND:20260209T104000Z
SUMMARY:Элективная  физическая культура и спорт
LOCATION:СК Спортивный зал
END:VEVENT
BEGIN:VEVENT
UID:ftpx@192.168.245.71:3006
SEQUENCE:0
DTSTAMP:20260423T044202Z
DTSTART:20260209T110000Z
DTEND:20260209T124000Z
SUMMARY:Иностранный язык. Профессионально-ориентированный курс
LOCATION:16 к. 403
END:VEVENT
BEGIN:VEVENT
UID:spf8@192.168.245.71:3006
SEQUENCE:0
DTSTAMP:20260423T044202Z
DTSTART:20260209T130000Z
DTEND:20260209T144000Z
SUMMARY:Иностранный язык. Профессионально-ориентированный курс
LOCATION:16 к. 403
END:VEVENT
BEGIN:VEVENT
UID:wdoj@192.168.245.71:3006
SEQUENCE:0
DTSTAMP:20260423T044202Z
DTSTART:20260210T090000Z
DTEND:20260210T104000Z
SUMMARY:Экономика туризма
LOCATION:50 уч.к 1230
END:VEVENT
BEGIN:VEVENT
UID:rtzm@192.168.245.71:3006
SEQUENCE:0
DTSTAMP:20260423T044202Z
DTSTART:20260210T110000Z
DTEND:20260210T124000Z
SUMMARY:Управление качеством
LOCATION:50 уч.к 1251
END:VEVENT
BEGIN:VEVENT
UID:p4ab@192.168.245.71:3006
SEQUENCE:0
DTSTAMP:20260423T044202Z
DTSTART:20260210T130000Z
DTEND:20260210T144000Z
SUMMARY:Статистика
LOCATION:50 уч.к 1103
END:VEVENT
BEGIN:VEVENT
UID:zs2b@192.168.245.71:3006
SEQUENCE:0
DTSTAMP:20260423T044202Z
DTSTART:20260210T150000Z
DTEND:20260210T180000Z
SUMMARY:Русский язык как иностранный: Профессионально-ориентированный курс
LOCATION:50 уч.к 1428
END:VEVENT
BEGIN:VEVENT
UID:3v4b@192.168.245.71:3006
SEQUENCE:0
DTSTAMP:20260423T044202Z
DTSTART:20260211T070000Z
DTEND:20260211T084000Z
SUMMARY:Безопасность жизнедеятельности
LOCATION:50 уч.к 1235
END:VEVENT
BEGIN:VEVENT
UID:swlh@192.168.245.71:3006
SEQUENCE:0
DTSTAMP:20260423T044202Z
DTSTART:20260211T090000Z
DTEND:20260211T104000Z
SUMMARY:Экономика туризма
LOCATION:50 уч.к 1230
END:VEVENT
BEGIN:VEVENT
UID:qoed@192.168.245.71:3006
SEQUENCE:0
DTSTAMP:20260423T044202Z
DTSTART:20260211T110000Z
DTEND:20260211T124000Z
SUMMARY:Управление качеством
LOCATION:50 уч.к 1105
END:VEVENT
BEGIN:VEVENT
UID:ayby@192.168.245.71:3006
SEQUENCE:0
DTSTAMP:20260423T044202Z
DTSTART:20260212T090000Z
DTEND:20260212T104000Z
SUMMARY:Статистика
LOCATION:50 уч.к 1105
END:VEVENT
BEGIN:VEVENT
UID:ycpd@192.168.245.71:3006
SEQUENCE:0
DTSTAMP:20260423T044202Z
DTSTART:20260212T110000Z
DTEND:20260212T124000Z
SUMMARY:Элективная  физическая культура и спорт
LOCATION:СК Спортивный зал
END:VEVENT
BEGIN:VEVENT
UID:w461@192.168.245.71:3006
SEQUENCE:0
DTSTAMP:20260423T044202Z
DTSTART:20260213T074000Z
DTEND:20260213T084000Z
SUMMARY:Второй иностранный язык (испанский): базовая подготовка\, Английск
 ий
LOCATION:50 уч.к 1328
END:VEVENT
BEGIN:VEVENT
UID:f97f@192.168.245.71:3006
SEQUENCE:0
DTSTAMP:20260423T044202Z
DTSTART:20260213T090000Z
DTEND:20260213T104000Z
SUMMARY:Второй иностранный язык (испанский): базовая подготовка\, Английск
 ий
LOCATION:50 уч.к 1328
END:VEVENT
END:VCALENDAR