BEGIN:VCALENDAR
VERSION:2.0
PRODID:-//spbstu.ru//ical//RU
NAME:Расписание группы 3734302/40001
X-WR-CALNAME:Расписание группы 3734302/40001
TIMEZONE-ID:Europe/Moscow
X-WR-TIMEZONE:Europe/Moscow
BEGIN:VEVENT
UID:bb4x@192.168.245.71:3006
SEQUENCE:0
DTSTAMP:20260422T192419Z
DTSTART:20260316T090000Z
DTEND:20260316T104000Z
SUMMARY:Элективная  физическая культура и спорт
LOCATION:СК Спортивный зал
END:VEVENT
BEGIN:VEVENT
UID:ihfv@192.168.245.71:3006
SEQUENCE:0
DTSTAMP:20260422T192419Z
DTSTART:20260316T110000Z
DTEND:20260316T124000Z
SUMMARY:Иностранный язык. Профессионально-ориентированный курс
LOCATION:16 к. 403
END:VEVENT
BEGIN:VEVENT
UID:8bwj@192.168.245.71:3006
SEQUENCE:0
DTSTAMP:20260422T192419Z
DTSTART:20260316T130000Z
DTEND:20260316T144000Z
SUMMARY:Иностранный язык. Профессионально-ориентированный курс
LOCATION:16 к. 403
END:VEVENT
BEGIN:VEVENT
UID:i8xg@192.168.245.71:3006
SEQUENCE:0
DTSTAMP:20260422T192419Z
DTSTART:20260317T070000Z
DTEND:20260317T084000Z
SUMMARY:Технологии продвижения и продаж в сфере услуг
LOCATION:50 уч.к 1243
END:VEVENT
BEGIN:VEVENT
UID:bb1r@192.168.245.71:3006
SEQUENCE:0
DTSTAMP:20260422T192419Z
DTSTART:20260317T090000Z
DTEND:20260317T104000Z
SUMMARY:Технологии продвижения и продаж в сфере услуг
LOCATION:50 уч.к 1243
END:VEVENT
BEGIN:VEVENT
UID:67sz@192.168.245.71:3006
SEQUENCE:0
DTSTAMP:20260422T192419Z
DTSTART:20260317T110000Z
DTEND:20260317T124000Z
SUMMARY:Управление качеством
LOCATION:50 уч.к 1251
END:VEVENT
BEGIN:VEVENT
UID:jc3i@192.168.245.71:3006
SEQUENCE:0
DTSTAMP:20260422T192419Z
DTSTART:20260317T130000Z
DTEND:20260317T144000Z
SUMMARY:Статистика
LOCATION:50 уч.к 1103
END:VEVENT
BEGIN:VEVENT
UID:nbi4@192.168.245.71:3006
SEQUENCE:0
DTSTAMP:20260422T192419Z
DTSTART:20260318T090000Z
DTEND:20260318T104000Z
SUMMARY:Экономика туризма
LOCATION:50 уч.к 1230
END:VEVENT
BEGIN:VEVENT
UID:i1gi@192.168.245.71:3006
SEQUENCE:0
DTSTAMP:20260422T192419Z
DTSTART:20260318T110000Z
DTEND:20260318T124000Z
SUMMARY:Психодиагностика и психологический практикум
LOCATION:50 уч.к 1111
END:VEVENT
BEGIN:VEVENT
UID:1917@192.168.245.71:3006
SEQUENCE:0
DTSTAMP:20260422T192419Z
DTSTART:20260318T130000Z
DTEND:20260318T144000Z
SUMMARY:Психодиагностика и психологический практикум
LOCATION:50 уч.к 1249
END:VEVENT
BEGIN:VEVENT
UID:0s24@192.168.245.71:3006
SEQUENCE:0
DTSTAMP:20260422T192419Z
DTSTART:20260319T090000Z
DTEND:20260319T104000Z
SUMMARY:Технологии продвижения и продаж в сфере услуг
LOCATION:50 уч.к 1105
END:VEVENT
BEGIN:VEVENT
UID:dqyx@192.168.245.71:3006
SEQUENCE:0
DTSTAMP:20260422T192419Z
DTSTART:20260319T110000Z
DTEND:20260319T124000Z
SUMMARY:Элективная  физическая культура и спорт
LOCATION:СК Спортивный зал
END:VEVENT
BEGIN:VEVENT
UID:ory8@192.168.245.71:3006
SEQUENCE:0
DTSTAMP:20260422T192419Z
DTSTART:20260320T074000Z
DTEND:20260320T084000Z
SUMMARY:Второй иностранный язык (испанский): базовая подготовка\, Английск
 ий
LOCATION:50 уч.к 1328
END:VEVENT
BEGIN:VEVENT
UID:6e32@192.168.245.71:3006
SEQUENCE:0
DTSTAMP:20260422T192419Z
DTSTART:20260320T090000Z
DTEND:20260320T104000Z
SUMMARY:Второй иностранный язык (испанский): базовая подготовка\, Английск
 ий
LOCATION:50 уч.к 1328
END:VEVENT
END:VCALENDAR